{"text_format":"1","workbook":"xlsx","n_sheets":1,"sheets":["Δｔグラフ(クラスまとめ)"],"not_rendered":{"charts":1,"images":0,"macros":1,"external_links":3,"defined_names":0,"comments":0,"pivot_tables":0},"unopened":[],"bounds":{"document_bytes":16777216,"sheet_cells":100000,"rows_first":2000,"rows_last":500,"rows_between":2000,"halvings":0,"cell_chars":16384,"cell_head_chars":4096},"cells_cut":0,"cells_raw":0,"read":"whole","date_system":"1900"}

{"sheet":"Δｔグラフ(クラスまとめ)","index":0,"n_rows":8,"n_cols":62,"rows_kept":8,"cut":false,"hidden":false,"merged":[]}
["m=100"]
["時間(秒)","00:00:00","00:05:00","00:10:00","00:15:00","00:20:00","00:25:00","00:30:00","00:35:00","00:40:00","00:45:00","00:50:00","00:55:00","01:00:00","01:05:00","01:10:00","01:15:00","01:20:00","01:25:00","01:30:00","01:35:00","01:40:00","01:45:00","01:50:00","01:55:00","02:00:00","02:05:00","02:10:00","02:15:00","02:20:00","02:25:00","02:30:00","02:35:00","02:40:00","02:45:00","02:50:00","02:55:00","03:00:00","03:05:00","03:10:00","03:15:00","03:20:00","03:25:00","03:30:00","03:35:00","03:40:00","03:45:00","03:50:00","03:55:00","04:00:00","04:05:00","04:10:00","04:15:00","04:20:00","04:25:00","04:30:00","04:35:00","04:40:00","04:45:00","04:50:00","04:55:00","05:00:00"]
["温度℃(6g)",{"$f":"'[1]Δｔグラフ(個人)'!B3","v":23.1},{"$f":"'[1]Δｔグラフ(個人)'!C3","v":22.5},{"$f":"'[1]Δｔグラフ(個人)'!D3","v":21.6},{"$f":"'[1]Δｔグラフ(個人)'!E3","v":20.399999999999999},{"$f":"'[1]Δｔグラフ(個人)'!F3","v":19.899999999999999},{"$f":"'[1]Δｔグラフ(個人)'!G3","v":19.600000000000001},{"$f":"'[1]Δｔグラフ(個人)'!H3","v":19.5},{"$f":"'[1]Δｔグラフ(個人)'!I3","v":19.399999999999999},{"$f":"'[1]Δｔグラフ(個人)'!J3","v":19.3},{"$f":"'[1]Δｔグラフ(個人)'!K3","v":19.3},{"$f":"'[1]Δｔグラフ(個人)'!L3","v":19.3},{"$f":"'[1]Δｔグラフ(個人)'!M3","v":19.3},{"$f":"'[1]Δｔグラフ(個人)'!N3","v":19.3},{"$f":"'[1]Δｔグラフ(個人)'!O3","v":19.3},{"$f":"'[1]Δｔグラフ(個人)'!P3","v":19.399999999999999},{"$f":"'[1]Δｔグラフ(個人)'!Q3","v":19.3},{"$f":"'[1]Δｔグラフ(個人)'!R3","v":19.399999999999999},{"$f":"'[1]Δｔグラフ(個人)'!S3","v":19.399999999999999},{"$f":"'[1]Δｔグラフ(個人)'!T3","v":19.3},{"$f":"'[1]Δｔグラフ(個人)'!U3","v":19.399999999999999},{"$f":"'[1]Δｔグラフ(個人)'!V3","v":19.399999999999999},{"$f":"'[1]Δｔグラフ(個人)'!W3","v":19.399999999999999},{"$f":"'[1]Δｔグラフ(個人)'!X3","v":19.3},{"$f":"'[1]Δｔグラフ(個人)'!Y3","v":19.399999999999999},{"$f":"'[1]Δｔグラフ(個人)'!Z3","v":19.399999999999999},{"$f":"'[1]Δｔグラフ(個人)'!AA3","v":19.399999999999999},{"$f":"'[1]Δｔグラフ(個人)'!AB3","v":19.399999999999999},{"$f":"'[1]Δｔグラフ(個人)'!AC3","v":19.399999999999999},{"$f":"'[1]Δｔグラフ(個人)'!AD3","v":19.5},{"$f":"'[1]Δｔグラフ(個人)'!AE3","v":19.5},{"$f":"'[1]Δｔグラフ(個人)'!AF3","v":19.5},{"$f":"'[1]Δｔグラフ(個人)'!AG3","v":19.399999999999999},{"$f":"'[1]Δｔグラフ(個人)'!AH3","v":19.5},{"$f":"'[1]Δｔグラフ(個人)'!AI3","v":19.5},{"$f":"'[1]Δｔグラフ(個人)'!AJ3","v":19.5},{"$f":"'[1]Δｔグラフ(個人)'!AK3","v":19.5},{"$f":"'[1]Δｔグラフ(個人)'!AL3","v":19.5},{"$f":"'[1]Δｔグラフ(個人)'!AM3","v":19.5},{"$f":"'[1]Δｔグラフ(個人)'!AN3","v":19.5},{"$f":"'[1]Δｔグラフ(個人)'!AO3","v":19.5},{"$f":"'[1]Δｔグラフ(個人)'!AP3","v":19.5},{"$f":"'[1]Δｔグラフ(個人)'!AQ3","v":19.5},{"$f":"'[1]Δｔグラフ(個人)'!AR3","v":19.5},{"$f":"'[1]Δｔグラフ(個人)'!AS3","v":19.5},{"$f":"'[1]Δｔグラフ(個人)'!AT3","v":19.5},{"$f":"'[1]Δｔグラフ(個人)'!AU3","v":19.5},{"$f":"'[1]Δｔグラフ(個人)'!AV3","v":19.5},{"$f":"'[1]Δｔグラフ(個人)'!AW3","v":19.5},{"$f":"'[1]Δｔグラフ(個人)'!AX3","v":19.5},{"$f":"'[1]Δｔグラフ(個人)'!AY3","v":19.5},{"$f":"'[1]Δｔグラフ(個人)'!AZ3","v":19.5},{"$f":"'[1]Δｔグラフ(個人)'!BA3","v":19.5},{"$f":"'[1]Δｔグラフ(個人)'!BB3","v":19.5},{"$f":"'[1]Δｔグラフ(個人)'!BC3","v":19.5},{"$f":"'[1]Δｔグラフ(個人)'!BD3","v":19.5},{"$f":"'[1]Δｔグラフ(個人)'!BE3","v":19.5},{"$f":"'[1]Δｔグラフ(個人)'!BF3","v":19.600000000000001},{"$f":"'[1]Δｔグラフ(個人)'!BG3","v":19.600000000000001},{"$f":"'[1]Δｔグラフ(個人)'!BH3","v":19.600000000000001},{"$f":"'[1]Δｔグラフ(個人)'!BI3","v":19.600000000000001},{"$f":"'[1]Δｔグラフ(個人)'!BJ3","v":19.600000000000001}]
["温度℃(12g)",{"$f":"'[2]Δｔグラフ(個人)'!B4","v":24.6},{"$f":"'[2]Δｔグラフ(個人)'!C4","v":21.6},{"$f":"'[2]Δｔグラフ(個人)'!D4","v":20.8},{"$f":"'[2]Δｔグラフ(個人)'!E4","v":19.5},{"$f":"'[2]Δｔグラフ(個人)'!F4","v":18.3},{"$f":"'[2]Δｔグラフ(個人)'!G4","v":17.7},{"$f":"'[2]Δｔグラフ(個人)'!H4","v":17.5},{"$f":"'[2]Δｔグラフ(個人)'!I4","v":17.5},{"$f":"'[2]Δｔグラフ(個人)'!J4","v":17.5},{"$f":"'[2]Δｔグラフ(個人)'!K4","v":17.399999999999999},{"$f":"'[2]Δｔグラフ(個人)'!L4","v":17.5},{"$f":"'[2]Δｔグラフ(個人)'!M4","v":17.5},{"$f":"'[2]Δｔグラフ(個人)'!N4","v":17.5},{"$f":"'[2]Δｔグラフ(個人)'!O4","v":17.5},{"$f":"'[2]Δｔグラフ(個人)'!P4","v":17.5},{"$f":"'[2]Δｔグラフ(個人)'!Q4","v":17.5},{"$f":"'[2]Δｔグラフ(個人)'!R4","v":17.5},{"$f":"'[2]Δｔグラフ(個人)'!S4","v":17.5},{"$f":"'[2]Δｔグラフ(個人)'!T4","v":17.5},{"$f":"'[2]Δｔグラフ(個人)'!U4","v":17.5},{"$f":"'[2]Δｔグラフ(個人)'!V4","v":17.600000000000001},{"$f":"'[2]Δｔグラフ(個人)'!W4","v":17.600000000000001},{"$f":"'[2]Δｔグラフ(個人)'!X4","v":17.600000000000001},{"$f":"'[2]Δｔグラフ(個人)'!Y4","v":17.600000000000001},{"$f":"'[2]Δｔグラフ(個人)'!Z4","v":17.600000000000001},{"$f":"'[2]Δｔグラフ(個人)'!AA4","v":17.600000000000001},{"$f":"'[2]Δｔグラフ(個人)'!AB4","v":17.600000000000001},{"$f":"'[2]Δｔグラフ(個人)'!AC4","v":17.600000000000001},{"$f":"'[2]Δｔグラフ(個人)'!AD4","v":17.600000000000001},{"$f":"'[2]Δｔグラフ(個人)'!AE4","v":17.600000000000001},{"$f":"'[2]Δｔグラフ(個人)'!AF4","v":17.600000000000001},{"$f":"'[2]Δｔグラフ(個人)'!AG4","v":17.600000000000001},{"$f":"'[2]Δｔグラフ(個人)'!AH4","v":17.600000000000001},{"$f":"'[2]Δｔグラフ(個人)'!AI4","v":17.600000000000001},{"$f":"'[2]Δｔグラフ(個人)'!AJ4","v":17.7},{"$f":"'[2]Δｔグラフ(個人)'!AK4","v":17.7},{"$f":"'[2]Δｔグラフ(個人)'!AL4","v":17.7},{"$f":"'[2]Δｔグラフ(個人)'!AM4","v":17.7},{"$f":"'[2]Δｔグラフ(個人)'!AN4","v":17.7},{"$f":"'[2]Δｔグラフ(個人)'!AO4","v":17.7},{"$f":"'[2]Δｔグラフ(個人)'!AP4","v":17.8},{"$f":"'[2]Δｔグラフ(個人)'!AQ4","v":17.8},{"$f":"'[2]Δｔグラフ(個人)'!AR4","v":17.8},{"$f":"'[2]Δｔグラフ(個人)'!AS4","v":17.8},{"$f":"'[2]Δｔグラフ(個人)'!AT4","v":17.8},{"$f":"'[2]Δｔグラフ(個人)'!AU4","v":17.8},{"$f":"'[2]Δｔグラフ(個人)'!AV4","v":17.8},{"$f":"'[2]Δｔグラフ(個人)'!AW4","v":17.8},{"$f":"'[2]Δｔグラフ(個人)'!AX4","v":17.8},{"$f":"'[2]Δｔグラフ(個人)'!AY4","v":17.8},{"$f":"'[2]Δｔグラフ(個人)'!AZ4","v":17.8},{"$f":"'[2]Δｔグラフ(個人)'!BA4","v":17.8},{"$f":"'[2]Δｔグラフ(個人)'!BB4","v":17.8},{"$f":"'[2]Δｔグラフ(個人)'!BC4","v":17.8},{"$f":"'[2]Δｔグラフ(個人)'!BD4","v":17.8},{"$f":"'[2]Δｔグラフ(個人)'!BE4","v":17.899999999999999},{"$f":"'[2]Δｔグラフ(個人)'!BF4","v":17.899999999999999},{"$f":"'[2]Δｔグラフ(個人)'!BG4","v":17.899999999999999},{"$f":"'[2]Δｔグラフ(個人)'!BH4","v":17.899999999999999},{"$f":"'[2]Δｔグラフ(個人)'!BI4","v":18},{"$f":"'[2]Δｔグラフ(個人)'!BJ4","v":17.899999999999999}]
["温度℃(24g)",{"$f":"'[3]Δｔグラフ(個人)'!B5","v":25.2},{"$f":"'[3]Δｔグラフ(個人)'!C5","v":21.5},{"$f":"'[3]Δｔグラフ(個人)'!D5","v":18.5},{"$f":"'[3]Δｔグラフ(個人)'!E5","v":16.2},{"$f":"'[3]Δｔグラフ(個人)'!F5","v":14},{"$f":"'[3]Δｔグラフ(個人)'!G5","v":12.5},{"$f":"'[3]Δｔグラフ(個人)'!H5","v":11.9},{"$f":"'[3]Δｔグラフ(個人)'!I5","v":11.2},{"$f":"'[3]Δｔグラフ(個人)'!J5","v":10.9},{"$f":"'[3]Δｔグラフ(個人)'!K5","v":10.5},{"$f":"'[3]Δｔグラフ(個人)'!L5","v":10.5},{"$f":"'[3]Δｔグラフ(個人)'!M5","v":10.3},{"$f":"'[3]Δｔグラフ(個人)'!N5","v":10.3},{"$f":"'[3]Δｔグラフ(個人)'!O5","v":10.3},{"$f":"'[3]Δｔグラフ(個人)'!P5","v":10.3},{"$f":"'[3]Δｔグラフ(個人)'!Q5","v":10.3},{"$f":"'[3]Δｔグラフ(個人)'!R5","v":10.3},{"$f":"'[3]Δｔグラフ(個人)'!S5","v":10.3},{"$f":"'[3]Δｔグラフ(個人)'!T5","v":10.3},{"$f":"'[3]Δｔグラフ(個人)'!U5","v":10.4},{"$f":"'[3]Δｔグラフ(個人)'!V5","v":10.4},{"$f":"'[3]Δｔグラフ(個人)'!W5","v":10.4},{"$f":"'[3]Δｔグラフ(個人)'!X5","v":10.4},{"$f":"'[3]Δｔグラフ(個人)'!Y5","v":10.5},{"$f":"'[3]Δｔグラフ(個人)'!Z5","v":10.4},{"$f":"'[3]Δｔグラフ(個人)'!AA5","v":10.5},{"$f":"'[3]Δｔグラフ(個人)'!AB5","v":10.5},{"$f":"'[3]Δｔグラフ(個人)'!AC5","v":10.5},{"$f":"'[3]Δｔグラフ(個人)'!AD5","v":10.5},{"$f":"'[3]Δｔグラフ(個人)'!AE5","v":10.6},{"$f":"'[3]Δｔグラフ(個人)'!AF5","v":10.6},{"$f":"'[3]Δｔグラフ(個人)'!AG5","v":10.6},{"$f":"'[3]Δｔグラフ(個人)'!AH5","v":10.6},{"$f":"'[3]Δｔグラフ(個人)'!AI5","v":10.6},{"$f":"'[3]Δｔグラフ(個人)'!AJ5","v":10.7},{"$f":"'[3]Δｔグラフ(個人)'!AK5","v":10.7},{"$f":"'[3]Δｔグラフ(個人)'!AL5","v":10.8},{"$f":"'[3]Δｔグラフ(個人)'!AM5","v":10.8},{"$f":"'[3]Δｔグラフ(個人)'!AN5","v":10.8},{"$f":"'[3]Δｔグラフ(個人)'!AO5","v":10.8},{"$f":"'[3]Δｔグラフ(個人)'!AP5","v":10.7},{"$f":"'[3]Δｔグラフ(個人)'!AQ5","v":10.8},{"$f":"'[3]Δｔグラフ(個人)'!AR5","v":10.8},{"$f":"'[3]Δｔグラフ(個人)'!AS5","v":10.8},{"$f":"'[3]Δｔグラフ(個人)'!AT5","v":10.9},{"$f":"'[3]Δｔグラフ(個人)'!AU5","v":10.9},{"$f":"'[3]Δｔグラフ(個人)'!AV5","v":10.9},{"$f":"'[3]Δｔグラフ(個人)'!AW5","v":11},{"$f":"'[3]Δｔグラフ(個人)'!AX5","v":11},{"$f":"'[3]Δｔグラフ(個人)'!AY5","v":11},{"$f":"'[3]Δｔグラフ(個人)'!AZ5","v":11},{"$f":"'[3]Δｔグラフ(個人)'!BA5","v":11},{"$f":"'[3]Δｔグラフ(個人)'!BB5","v":11.1},{"$f":"'[3]Δｔグラフ(個人)'!BC5","v":11.1},{"$f":"'[3]Δｔグラフ(個人)'!BD5","v":11.1},{"$f":"'[3]Δｔグラフ(個人)'!BE5","v":11.1},{"$f":"'[3]Δｔグラフ(個人)'!BF5","v":11.1},{"$f":"'[3]Δｔグラフ(個人)'!BG5","v":11.1},{"$f":"'[3]Δｔグラフ(個人)'!BH5","v":11.2},{"$f":"'[3]Δｔグラフ(個人)'!BI5","v":11.1},{"$f":"'[3]Δｔグラフ(個人)'!BJ5","v":11.2}]
["温度℃(6g)",null,null,null,null,null,null,null,null,19.3,19.3,19.3,19.3,19.3,19.3,19.399999999999999,19.3,19.399999999999999,19.399999999999999,19.3,19.399999999999999,19.399999999999999,19.399999999999999,19.3,19.399999999999999,19.399999999999999,19.399999999999999,19.399999999999999,19.399999999999999,19.5,19.5,19.5,19.399999999999999,19.5,19.5,19.5,19.5,19.5,19.5,19.5,19.5,19.5,19.5,19.5,19.5,19.5,19.5,19.5,19.5,19.5,19.5,19.5,19.5,19.5,19.5,19.5,19.5,19.600000000000001,19.600000000000001,19.600000000000001,19.600000000000001,19.600000000000001]
["温度℃(12g)",null,null,null,null,null,null,null,null,null,17.399999999999999,17.5,17.5,17.5,17.5,17.5,17.5,17.5,17.5,17.5,17.5,17.600000000000001,17.600000000000001,17.600000000000001,17.600000000000001,17.600000000000001,17.600000000000001,17.600000000000001,17.600000000000001,17.600000000000001,17.600000000000001,17.600000000000001,17.600000000000001,17.600000000000001,17.600000000000001,17.7,17.7,17.7,17.7,17.7,17.7,17.8,17.8,17.8,17.8,17.8,17.8,17.8,17.8,17.8,17.8,17.8,17.8,17.8,17.8,17.8,17.899999999999999,17.899999999999999,17.899999999999999,17.899999999999999,18,17.899999999999999]
["温度℃(24g)",null,null,null,null,null,null,null,null,null,null,null,10.3,10.3,10.3,10.3,10.3,10.3,10.3,10.3,10.4,10.4,10.4,10.4,10.5,10.4,10.5,10.5,10.5,10.5,10.6,10.6,10.6,10.6,10.6,10.7,10.7,10.8,10.8,10.8,10.8,10.7,10.8,10.8,10.8,10.9,10.9,10.9,11,11,11,11,11,11.1,11.1,11.1,11.1,11.1,11.1,11.2,11.1,11.2]