{"text_format":"1","workbook":"xlsx","n_sheets":7,"sheets":["作成マニュアル","オリジナル版入力シート","オリジナル版出力シート(言葉)","オリジナル版出力シート(顔文字)","【小】ベーシック版","【中】ベーシック版","補助シート"],"not_rendered":{"charts":0,"images":12,"macros":1,"external_links":0,"defined_names":5,"comments":0,"pivot_tables":0},"unopened":[],"bounds":{"document_bytes":16777216,"sheet_cells":100000,"rows_first":2000,"rows_last":500,"rows_between":2000,"halvings":0,"cell_chars":16384,"cell_head_chars":4096},"cells_cut":0,"cells_raw":0,"read":"whole","date_system":"1900"}

{"sheet":"作成マニュアル","index":0,"n_rows":0,"n_cols":0,"rows_kept":0,"cut":false,"hidden":false,"merged":[]}

{"sheet":"オリジナル版入力シート","index":1,"n_rows":71,"n_cols":31,"rows_kept":71,"cut":false,"hidden":false,"merged":[[30,3,30,8],[56,3,56,8],[43,3,43,8],[44,3,44,8],[45,3,45,8],[53,3,53,8],[54,3,54,8],[32,3,32,8],[34,3,34,8],[35,3,35,8],[36,3,36,8],[33,3,33,8],[49,3,49,6],[57,3,57,8],[58,3,58,8],[50,3,50,8],[51,3,51,8],[52,3,52,8],[55,3,55,8],[8,12,8,13],[67,3,67,8],[68,3,68,8],[69,3,69,8],[46,3,46,8],[47,3,47,8],[48,3,48,8],[38,3,38,8],[39,3,39,8],[40,3,40,8],[41,3,41,8],[42,3,42,8],[37,3,37,8],[28,3,28,8],[29,3,29,8],[31,3,31,8],[70,3,70,8],[59,3,59,8],[60,3,60,8],[61,3,61,8],[62,3,62,8],[63,3,63,8],[65,3,65,8],[64,3,64,8],[66,3,66,8],[3,8,4,8],[27,3,27,8],[18,3,18,8],[19,3,19,8],[20,3,20,8],[21,3,21,8],[22,3,22,8],[23,3,23,8],[24,3,24,8],[25,3,25,8],[26,3,26,8],[6,2,6,8],[7,9,8,9],[1,3,1,8],[0,2,0,10],[17,3,17,8],[7,3,7,8],[8,3,8,8],[9,3,9,8],[10,3,10,8],[11,3,11,8],[12,3,12,8],[13,3,13,8],[14,3,14,8],[15,3,15,8],[16,3,16,8],[2,9,4,9],[3,7,4,7]]}
[null,0,"(小学５年～中学生対象)アンケート　　質問に☑チェックを入れてください。"]
[null,null,null,"選択した質問の数"]
[null,null,null,"自分について",{"$f":"COUNTIF($B$8:$B$18,TRUE)","v":0},"家庭について",{"$f":"COUNTIF($B$41:$B$49,TRUE)","v":0},"先生について",{"$f":"COUNTIF($B$67:$B$71,TRUE)","v":0},"ページ上へ"]
[null,null,null,"友達について",{"$f":"COUNTIF($B$19:$B$29,TRUE)","v":0},"部活動について",{"$f":"COUNTIF($B$50:$B$55,TRUE)","v":0},"合計",{"$f":"SUM(E3:E5,G3:G5,I3)","v":0}]
[null,null,null,"学習について",{"$f":"COUNTIF($B$30:$B$40,TRUE)","v":0},"進路について",{"$f":"COUNTIF($B$56:$B$66,TRUE)","v":0}]
[null,null,null,null,null,null,null,null,null,null,null,null,null,""]
[null,-1,"質問",null,null,null,null,null,null,null,null,null,null,""]
[null,false,null,"自分について",null,null,null,null,null,"※　ベーシック版を基に\n  作成する場合は、下の\n  ボタンをクリックして\n  ください。↓",null,null,null,""]
[null,false,null,"元気がある。"]
[null,false,null,"夜はよく眠れている。",null,null,null,null,null,null,null,null,null,"選択した質問"]
[null,false,null,"ご飯はしっかり食べている。",null,null,null,null,null,null,null,null,1,""]
[null,false,null,"気持ちが楽しくなったりわくわくしたりすることがある。",null,null,null,null,null,null,null,null,2,"",null,null,null,null,null,null,null,null,null,null,"年",null,"組　　",null,"号",null,"名前"]
[null,false,null,"好きな遊びや趣味がある。",null,null,null,null,null,null,null,null,3,""]
[null,false,null,"興味のあることや関心をもっていることがある。",null,null,null,null,null,null,null,null,4,""]
[null,false,null,"得意なことがある。",null,null,null,null,null,null,null,null,5,"",null,""]
[null,false,null,"自分のことが好きだ。",null,null,null,null,null,null,null,null,6,"",null,""]
[null,false,null,"自分からチャレンジすることがある。",null,null,null,null,null,null,null,null,7,"",null,""]
[null,false,null,"自分の心を落ち着かせる方法がある。",null,null,null,null,null,null,null,null,8,"",null,""]
[null,false,null,"友達について",null,null,null,null,null,null,null,null,9,"",null,""]
[null,false,null,"友達と一緒に遊ぶことがある。",null,null,null,null,null,null,null,null,10,"",null,""]
[null,false,null,"メールやＳＮＳなどで友達とやり取りすることがある。",null,null,null,null,null,null,null,null,"",""]
[null,false,null,"本音を話すことができる友達がいる。",null,null,null,null,null,null,null,null,""]
[null,false,null,"友達は本音を話してくれていると感じる。",null,null,null,null,null,null,null,null,""]
[null,false,null,"友達の役に立っていると感じることがある。"]
[null,false,null,"友達にアドバイスすることがある。"]
[null,false,null,"自分を助けてくれる人や友達がいる。"]
[null,false,null,"自分の気持ちや考えを分かってくれる人や友達がいる。"]
[null,false,null,"友達からほめられたりはげまされたりすることがある。"]
[null,false,null,"友達の相談にのることが多い。"]
[null,false,null,"学習について"]
[null,false,null,"勉強は楽しい。"]
[null,false,null,"勉強はうまくいっている。"]
[null,false,null,"好きな授業がある。"]
[null,false,null,"授業内容は理解できている。"]
[null,false,null,"授業中に自分の考えや意見を言っている。"]
[null,false,null,"宿題は無理なくできている。"]
[null,false,null,"自分なりに勉強の仕方を工夫している。"]
[null,false,null,"がんばっていることはテスト結果や成績に表れている。"]
[null,false,null,"一人でする学習は自分に合っている。"]
[null,false,null,"ペアやグループでする学習は自分に合っている。"]
[null,false,null,"家庭について"]
[null,false,null,"家で過ごす時間は好きだ。"]
[null,false,null,"家の中に落ち着く場所がある。"]
[null,false,null,"家でリラックスできている。"]
[null,false,null,"家族とよく話している。"]
[null,false,null,"家族で過ごす時間は楽しい。"]
[null,false,null,"自分の気持ちや考えを分かってくれる家族がいる。"]
[null,false,null,"家で手伝いをしている。"]
[null,false,null,"家で自分の好きなことやしたいことができている。"]
[null,false,null,"部活動(社会体育)や習い事について"]
[null,false,null,"部活動や習い事は楽しい。"]
[null,false,null,"部活動や習い事をがんばっている。"]
[null,false,null,"部活動や習い事のメンバーは仲がよい。"]
[null,false,null,"部活動や習い事で、できるようになったことがある。"]
[null,false,null,"部活動や習い事は無理なくできている。"]
[null,false,null,"進路について"]
[null,false,null,"将来の夢や希望がある。"]
[null,false,null,"目標がある。"]
[null,false,null,"あこがれの職業がある。"]
[null,false,null,"仕事をすることは楽しみだ。"]
[null,false,null,"進学することは楽しみだ。"]
[null,false,null,"あこがれている大人がいる。"]
[null,false,null,"次の学年に進級することは楽しみだ。"]
[null,false,null,"進路について友達と話すことがある。"]
[null,false,null,"進路について家族と話すことがある。"]
[null,false,null,"興味のある仕事や進路について自分で調べている。"]
[null,false,null,"先生について"]
[null,false,null,"気軽に話せる先生がいる。"]
[null,false,null,"どの先生とも楽しく過ごせている。"]
[null,false,null,"うれしかったことを先生に伝えている。"]
[null,false,null,"困ったことを先生に伝えている。"]

{"sheet":"オリジナル版出力シート(言葉)","index":2,"n_rows":28,"n_cols":19,"rows_kept":28,"cut":false,"hidden":false,"merged":[[23,19,24,20],[23,21,24,22],[23,23,24,24],[24,2,24,16],[25,1,26,1],[25,2,25,16],[25,17,26,18],[25,19,26,20],[25,21,26,22],[25,23,26,24],[26,2,26,16],[9,1,10,1],[23,1,24,1],[23,2,23,16],[23,17,24,18],[19,1,20,1],[21,1,22,1],[11,17,12,18],[15,17,16,18],[17,1,18,1],[19,17,20,18],[18,2,18,16],[19,2,19,16],[22,2,22,16],[17,2,17,16],[20,2,20,16],[13,1,14,1],[7,19,8,20],[7,21,8,22],[9,17,10,18],[9,19,10,20],[9,21,10,22],[15,1,16,1],[13,2,13,16],[15,2,15,16],[16,2,16,16],[14,2,14,16],[1,1,1,23],[2,7,2,8],[7,23,8,24],[9,23,10,24],[11,23,12,24],[7,2,7,16],[9,2,9,16],[10,2,10,16],[12,2,12,16],[8,2,8,16],[11,2,11,16],[7,1,8,1],[11,1,12,1],[11,19,12,20],[11,21,12,22],[7,17,8,18],[13,23,14,24],[15,21,16,22],[15,23,16,24],[15,25,15,26],[17,17,18,18],[17,19,18,20],[17,21,18,22],[17,23,18,24],[15,19,16,20],[13,17,14,18],[13,19,14,20],[13,21,14,22],[21,2,21,16],[19,19,20,20],[19,21,20,22],[19,23,20,24],[21,17,22,18],[21,19,22,20],[21,21,22,22],[21,23,22,24]]}
[]
[null,"定期相談アンケート"]
[null,null,null,null,null,null,null,null,null,null,null,null,"年",null,"組　　",null,"号",null,"名前"]
[]
[null,null,"あなたの気持ちに最も近いものに○をつけてください。"]
[]
[]
[null,"①",{"$f":"補助シート!E2","v":""}]
[null,null,{"$f":"補助シート!D2","v":""}]
[null,"②",{"$f":"補助シート!E3","v":""}]
[null,null,{"$f":"補助シート!D3","v":""}]
[null,"③",{"$f":"補助シート!E4","v":""}]
[null,null,{"$f":"補助シート!D4","v":""}]
[null,"④",{"$f":"補助シート!E5","v":""}]
[null,null,{"$f":"補助シート!D5","v":""}]
[null,"⑤",{"$f":"補助シート!E6","v":""}]
[null,null,{"$f":"補助シート!D6","v":""}]
[null,"⑥",{"$f":"補助シート!E7","v":""}]
[null,null,{"$f":"補助シート!D7","v":""}]
[null,"⑦",{"$f":"補助シート!E8","v":""}]
[null,null,{"$f":"補助シート!D8","v":""}]
[null,"⑧",{"$f":"補助シート!E9","v":""}]
[null,null,{"$f":"補助シート!D9","v":""}]
[null,"⑨",{"$f":"補助シート!E10","v":""}]
[null,null,{"$f":"補助シート!D10","v":""}]
[null,"⑩",{"$f":"補助シート!E11","v":""}]
[null,null,{"$f":"補助シート!D11","v":""}]
[null,null,"他にも先生に聞いてほしいことがあれば、書きましょう。"]

{"sheet":"オリジナル版出力シート(顔文字)","index":3,"n_rows":28,"n_cols":24,"rows_kept":28,"cut":false,"hidden":false,"merged":[[11,19,12,20],[15,19,16,20],[15,21,16,22],[15,23,16,24],[17,19,18,20],[17,21,18,22],[17,23,18,24],[23,17,24,18],[23,23,24,24],[17,1,18,1],[19,1,20,1],[25,1,26,1],[19,19,20,20],[19,21,20,22],[19,23,20,24],[21,19,22,20],[21,21,22,22],[21,23,22,24],[23,19,24,20],[23,21,24,22],[25,19,26,20],[25,21,26,22],[25,23,26,24],[11,1,12,1],[13,1,14,1],[21,1,22,1],[23,1,24,1],[15,1,16,1],[7,1,8,1],[9,1,10,1],[1,1,1,23],[2,7,2,8],[7,17,8,18],[9,17,10,18],[7,23,8,24],[9,23,10,24],[7,19,8,20],[7,21,8,22],[9,19,10,20],[9,21,10,22],[7,2,7,16],[8,2,8,16],[9,2,9,16],[10,2,10,16],[25,17,26,18],[5,17,6,18],[5,19,6,20],[5,21,6,22],[5,23,6,24],[13,23,14,24],[11,23,12,24],[11,21,12,22],[13,19,14,20],[13,21,14,22],[11,17,12,18],[13,17,14,18],[15,17,16,18],[17,17,18,18],[19,17,20,18],[21,17,22,18],[11,2,11,16],[12,2,12,16],[13,2,13,16],[14,2,14,16],[15,2,15,16],[16,2,16,16],[17,2,17,16],[18,2,18,16],[19,2,19,16],[20,2,20,16],[26,2,26,16],[21,2,21,16],[22,2,22,16],[23,2,23,16],[24,2,24,16],[25,2,25,16]]}
[]
[null,"定期相談アンケート"]
[null,null,null,null,null,null,null,null,null,null,null,null,"年",null,"組　　",null,"号",null,"名前"]
[]
[null,null,"あなたの気持ちに最も近いものに○をつけてください。"]
[null,null,null,null,null,null,null,null,null,null,null,null,null,null,null,null,null,"あては\nまる",null,"すこし\nあては\nまる",null,"あまり\nあてはま\nらない",null,"あてはま\nらない"]
[]
[null,"①",{"$f":"補助シート!E2","v":""}]
[null,null,{"$f":"補助シート!D2","v":""}]
[null,"②",{"$f":"補助シート!E3","v":""}]
[null,null,{"$f":"補助シート!D3","v":""}]
[null,"③",{"$f":"補助シート!E4","v":""}]
[null,"④",{"$f":"補助シート!D4","v":""}]
[null,"④",{"$f":"補助シート!E5","v":""}]
[null,"⑤",{"$f":"補助シート!D5","v":""}]
[null,"⑤",{"$f":"補助シート!E6","v":""}]
[null,null,{"$f":"補助シート!D6","v":""}]
[null,"⑥",{"$f":"補助シート!E7","v":""}]
[null,"⑧",{"$f":"補助シート!D7","v":""}]
[null,"⑦",{"$f":"補助シート!E8","v":""}]
[null,"⑨",{"$f":"補助シート!D8","v":""}]
[null,"⑧",{"$f":"補助シート!E9","v":""}]
[null,"⑧",{"$f":"補助シート!D9","v":""}]
[null,"⑨",{"$f":"補助シート!E10","v":""}]
[null,"⑨",{"$f":"補助シート!D10","v":""}]
[null,"⑩",{"$f":"補助シート!E11","v":""}]
[null,"⑨",{"$f":"補助シート!D11","v":""}]
[null,null,"他にも先生に聞いてほしいことがあれば、書きましょう。"]

{"sheet":"【小】ベーシック版","index":4,"n_rows":28,"n_cols":19,"rows_kept":28,"cut":false,"hidden":false,"merged":[[25,1,26,1],[25,17,26,18],[25,19,26,20],[25,21,26,22],[25,23,26,24],[25,2,25,16],[26,2,26,16],[23,1,24,1],[23,17,24,18],[23,19,24,20],[23,21,24,22],[23,23,24,24],[23,2,23,16],[24,2,24,16],[21,1,22,1],[21,17,22,18],[21,19,22,20],[21,21,22,22],[21,23,22,24],[21,2,21,16],[22,2,22,16],[19,1,20,1],[19,17,20,18],[19,19,20,20],[19,21,20,22],[19,23,20,24],[19,2,19,16],[20,2,20,16],[15,25,15,26],[17,1,18,1],[17,17,18,18],[17,19,18,20],[17,21,18,22],[17,23,18,24],[15,1,16,1],[15,17,16,18],[15,19,16,20],[15,21,16,22],[15,23,16,24],[15,2,15,16],[16,2,16,16],[17,2,17,16],[18,2,18,16],[13,1,14,1],[13,17,14,18],[13,19,14,20],[13,21,14,22],[13,23,14,24],[13,2,13,16],[14,2,14,16],[11,1,12,1],[11,17,12,18],[11,19,12,20],[11,21,12,22],[11,23,12,24],[11,2,11,16],[12,2,12,16],[9,1,10,1],[9,17,10,18],[9,19,10,20],[9,21,10,22],[9,23,10,24],[9,2,9,16],[10,2,10,16],[1,1,1,23],[2,7,2,8],[7,1,8,1],[7,17,8,18],[7,19,8,20],[7,21,8,22],[7,23,8,24],[7,2,7,16],[8,2,8,16]]}
[]
[null,"定期相談アンケート"]
[null,null,null,null,null,null,null,null,null,null,null,null,"年",null,"組　　",null,"号",null,"名前"]
[]
[null,null,"あなたの気持ちに最も近いものに○をつけてください。"]
[]
[]
[null,"①","  げん   き"]
[null,null,"元気がある。"]
[null,"②","  き    も　             たの　"]
[null,null,"気持ちが楽しくなったりわくわくしたりすることがある。"]
[null,"③"," きょう  み   　 　                     　  かん  しん　"]
[null,null,"興味のあることや関心をもっていることがある。"]
[null,"④","  じ   ぶん　　   　              　す"]
[null,null,"自分のことが好きだ。"]
[null,"⑤"," とも  だち 　     いっ しょ  　    あそ　"]
[null,null,"友達と一緒に遊ぶことがある。"]
[null,"⑥","  じ   ぶん　      たす　　  　  　            　 ひと　     とも  だち"]
[null,null,"自分を助けてくれる人や友達がいる。"]
[null,"⑦"," とも  だち　   　    "]
[null,null,"友達からほめられたりはげまされたりすることがある。"]
[null,"⑧"," べん きょう       たの"]
[null,null,"勉強は楽しい。"]
[null,"⑨"," じゅ  ぎょうちゅう      じ    ぶん       かんが            い   けん        い"]
[null,null,"授業中に自分の考えや意見を言っている。"]
[null,"⑩","   か   ぞく  　     す     　   　 じ    かん　     たの"]
[null,null,"家族で過ごす時間は楽しい。"]
[null,null,"他にも先生に聞いてほしいことがあれば、書きましょう。"]

{"sheet":"【中】ベーシック版","index":5,"n_rows":28,"n_cols":19,"rows_kept":28,"cut":false,"hidden":false,"merged":[[1,1,1,23],[2,7,2,8],[7,1,8,1],[7,17,8,18],[7,19,8,20],[7,21,8,22],[7,23,8,24],[9,1,10,1],[9,17,10,18],[9,19,10,20],[9,21,10,22],[9,23,10,24],[11,1,12,1],[11,17,12,18],[11,19,12,20],[11,21,12,22],[11,23,12,24],[13,1,14,1],[13,17,14,18],[13,19,14,20],[13,21,14,22],[13,23,14,24],[15,25,15,26],[17,1,18,1],[17,17,18,18],[17,19,18,20],[17,21,18,22],[17,23,18,24],[15,1,16,1],[15,17,16,18],[15,19,16,20],[15,21,16,22],[15,23,16,24],[19,1,20,1],[19,17,20,18],[19,19,20,20],[19,21,20,22],[19,23,20,24],[21,1,22,1],[21,17,22,18],[21,19,22,20],[21,21,22,22],[21,23,22,24],[23,1,24,1],[23,17,24,18],[23,19,24,20],[23,21,24,22],[23,23,24,24],[25,1,26,1],[25,17,26,18],[25,19,26,20],[25,21,26,22],[25,23,26,24]]}
[]
[null,"定期相談アンケート"]
[null,null,null,null,null,null,null,null,null,null,null,null,"年",null,"組　　",null,"号",null,"名前"]
[]
[null,null,"あなたの気持ちに最も近いものに○をつけてください。"]
[]
[]
[null,"①","  げん   き"]
[null,null,"元気がある。"]
[null,"②","  き    も　             たの　"]
[null,null,"気持ちが楽しくなったりわくわくしたりすることがある。"]
[null,"③"," きょう  み   　 　                     　  かん  しん　"]
[null,null,"興味のあることや関心をもっていることがある。"]
[null,"④"," とも  だち   　   やく     　  た　     　　         　   　かん"]
[null,null,"友達の役に立っていると感じることがある。"]
[null,"⑤","  じ   ぶん　      たす　　  　  　            　 ひと　     とも  だち"]
[null,null,"自分を助けてくれる人や友達がいる。"]
[null,"⑥","   す　 　       じゅ  ぎょう"]
[null,null,"好きな授業がある。"]
[null,"⑦"," 　　　　　　　　　　　            　                　　　　　　 　けっ 　か　　   　せい　せき      あらわ"]
[null,null,"がんばっていることはテスト結果や成績に表れている。"]
[null,"⑧","  いえ"]
[null,null,"家でリラックスできている。"]
[null,"⑨","  ぶ   かつ  どう    　  なら　 　   ごと       たの"]
[null,null,"部活動や習い事は楽しい。"]
[null,"⑩"," しょう らい     　ゆめ　  　   き   ぼう"]
[null,null,"将来の夢や希望がある。"]
[null,null,"他にも先生に聞いてほしいことがあれば、書きましょう。"]

{"sheet":"補助シート","index":6,"n_rows":76,"n_cols":8,"rows_kept":76,"cut":false,"hidden":false,"merged":[]}
[null,"ルビ",null,"質問順番","ルビ"]
[{"$f":"IF(オリジナル版入力シート!B8=TRUE,オリジナル版入力シート!D8,\"\")","v":""},"じぶん",{"$f":"IF(オリジナル版入力シート!B8=TRUE,B2,\"\")","v":""},{"$f":"IFERROR(INDEX($A$1:$A$71,SMALL(IF($A$1:$A$71<>\"\",ROW($A$1:$A$71)),ROW(A1))),\"\")","v":""},{"$f":"IFERROR(INDEX($C$1:$C$71,SMALL(IF($C$1:$C$71<>\"\",ROW($C$1:$C$71)),ROW(E1))),\"\")","v":""},null,null,{"$f":"PHONETIC(オリジナル版入力シート!D9)","v":"げんきがある。"}]
[{"$f":"IF(オリジナル版入力シート!B9=TRUE,オリジナル版入力シート!D9,\"\")","v":""},"  げん   き",{"$f":"IF(オリジナル版入力シート!B9=TRUE,B3,\"\")","v":""},{"$f":"IFERROR(INDEX($A$1:$A$71,SMALL(IF($A$1:$A$71<>\"\",ROW($A$1:$A$71)),ROW(A2))),\"\")","v":""},{"$f":"IFERROR(INDEX($C$1:$C$71,SMALL(IF($C$1:$C$71<>\"\",ROW($C$1:$C$71)),ROW(E2))),\"\")","v":""},null,null,{"$f":"PHONETIC(オリジナル版入力シート!D10)","v":"よるはよくねむれている。"}]
[{"$f":"IF(オリジナル版入力シート!B10=TRUE,オリジナル版入力シート!D10,\"\")","v":""},"  よる　　   　       ねむ",{"$f":"IF(オリジナル版入力シート!B10=TRUE,B4,\"\")","v":""},{"$f":"IFERROR(INDEX($A$1:$A$71,SMALL(IF($A$1:$A$71<>\"\",ROW($A$1:$A$71)),ROW(A3))),\"\")","v":""},{"$f":"IFERROR(INDEX($C$1:$C$71,SMALL(IF($C$1:$C$71<>\"\",ROW($C$1:$C$71)),ROW(E3))),\"\")","v":""},null,null,{"$f":"PHONETIC(オリジナル版入力シート!D11)","v":"ごはんはしっかりたべている。"}]
[{"$f":"IF(オリジナル版入力シート!B11=TRUE,オリジナル版入力シート!D11,\"\")","v":""},"   　  はん        　 　            　 た",{"$f":"IF(オリジナル版入力シート!B11=TRUE,B5,\"\")","v":""},{"$f":"IFERROR(INDEX($A$1:$A$71,SMALL(IF($A$1:$A$71<>\"\",ROW($A$1:$A$71)),ROW(A4))),\"\")","v":""},{"$f":"IFERROR(INDEX($C$1:$C$71,SMALL(IF($C$1:$C$71<>\"\",ROW($C$1:$C$71)),ROW(E4))),\"\")","v":""},null,null,{"$f":"PHONETIC(オリジナル版入力シート!D12)","v":"きもちがたのしくなったりわくわくしたりすることがある。"}]
[{"$f":"IF(オリジナル版入力シート!B12=TRUE,オリジナル版入力シート!D12,\"\")","v":""},"  き    も　             たの　",{"$f":"IF(オリジナル版入力シート!B12=TRUE,B6,\"\")","v":""},{"$f":"IFERROR(INDEX($A$1:$A$71,SMALL(IF($A$1:$A$71<>\"\",ROW($A$1:$A$71)),ROW(A5))),\"\")","v":""},{"$f":"IFERROR(INDEX($C$1:$C$71,SMALL(IF($C$1:$C$71<>\"\",ROW($C$1:$C$71)),ROW(E5))),\"\")","v":""},null,null,{"$f":"PHONETIC(オリジナル版入力シート!D13)","v":"すきなあそびやしゅみがある。"}]
[{"$f":"IF(オリジナル版入力シート!B13=TRUE,オリジナル版入力シート!D13,\"\")","v":""},"  す　          　あそ　         　しゅ　 み",{"$f":"IF(オリジナル版入力シート!B13=TRUE,B7,\"\")","v":""},{"$f":"IFERROR(INDEX($A$1:$A$71,SMALL(IF($A$1:$A$71<>\"\",ROW($A$1:$A$71)),ROW(A6))),\"\")","v":""},{"$f":"IFERROR(INDEX($C$1:$C$71,SMALL(IF($C$1:$C$71<>\"\",ROW($C$1:$C$71)),ROW(E6))),\"\")","v":""},null,null,{"$f":"PHONETIC(オリジナル版入力シート!D14)","v":"きょうみのあることやかんしんをもっていることがある。"}]
[{"$f":"IF(オリジナル版入力シート!B14=TRUE,オリジナル版入力シート!D14,\"\")","v":""}," きょう  み   　 　                     　  かん  しん　",{"$f":"IF(オリジナル版入力シート!B14=TRUE,B8,\"\")","v":""},{"$f":"IFERROR(INDEX($A$1:$A$71,SMALL(IF($A$1:$A$71<>\"\",ROW($A$1:$A$71)),ROW(A7))),\"\")","v":""},{"$f":"IFERROR(INDEX($C$1:$C$71,SMALL(IF($C$1:$C$71<>\"\",ROW($C$1:$C$71)),ROW(E7))),\"\")","v":""},null,null,{"$f":"PHONETIC(オリジナル版入力シート!D15)","v":"とくいなことがある。"}]
[{"$f":"IF(オリジナル版入力シート!B15=TRUE,オリジナル版入力シート!D15,\"\")","v":""}," とく    い",{"$f":"IF(オリジナル版入力シート!B15=TRUE,B9,\"\")","v":""},{"$f":"IFERROR(INDEX($A$1:$A$71,SMALL(IF($A$1:$A$71<>\"\",ROW($A$1:$A$71)),ROW(A8))),\"\")","v":""},{"$f":"IFERROR(INDEX($C$1:$C$71,SMALL(IF($C$1:$C$71<>\"\",ROW($C$1:$C$71)),ROW(E8))),\"\")","v":""},null,null,{"$f":"PHONETIC(オリジナル版入力シート!D16)","v":"じぶんのことがすきだ。"}]
[{"$f":"IF(オリジナル版入力シート!B16=TRUE,オリジナル版入力シート!D16,\"\")","v":""},"  じ   ぶん　　   　              　す",{"$f":"IF(オリジナル版入力シート!B16=TRUE,B10,\"\")","v":""},{"$f":"IFERROR(INDEX($A$1:$A$71,SMALL(IF($A$1:$A$71<>\"\",ROW($A$1:$A$71)),ROW(A9))),\"\")","v":""},{"$f":"IFERROR(INDEX($C$1:$C$71,SMALL(IF($C$1:$C$71<>\"\",ROW($C$1:$C$71)),ROW(E9))),\"\")","v":""},null,null,{"$f":"PHONETIC(オリジナル版入力シート!D17)","v":"じぶんからちゃれんじすることがある。"}]
[{"$f":"IF(オリジナル版入力シート!B17=TRUE,オリジナル版入力シート!D17,\"\")","v":""},"  じ   ぶん",{"$f":"IF(オリジナル版入力シート!B17=TRUE,B11,\"\")","v":""},{"$f":"IFERROR(INDEX($A$1:$A$71,SMALL(IF($A$1:$A$71<>\"\",ROW($A$1:$A$71)),ROW(A10))),\"\")","v":""},{"$f":"IFERROR(INDEX($C$1:$C$71,SMALL(IF($C$1:$C$71<>\"\",ROW($C$1:$C$71)),ROW(E10))),\"\")","v":""},null,null,{"$f":"PHONETIC(オリジナル版入力シート!D18)","v":"じぶんのこころをおちつかせるほうほうがある。"}]
[{"$f":"IF(オリジナル版入力シート!B18=TRUE,オリジナル版入力シート!D18,\"\")","v":""},"  じ   ぶん　     こころ　     お       　つ 　                 ほう  ほう",{"$f":"IF(オリジナル版入力シート!B18=TRUE,B12,\"\")","v":""},{"$f":"IFERROR(INDEX($A$1:$A$71,SMALL(IF($A$1:$A$71<>\"\",ROW($A$1:$A$71)),ROW(A11))),\"\")","v":""},{"$f":"IFERROR(INDEX($C$1:$C$71,SMALL(IF($C$1:$C$71<>\"\",ROW($C$1:$C$71)),ROW(E11))),\"\")","v":""},null,null,{"$f":"PHONETIC(オリジナル版入力シート!D19)","v":"ともだちについて"}]
[{"$f":"IF(オリジナル版入力シート!B19=TRUE,オリジナル版入力シート!D19,\"\")","v":""}," とも だち",{"$f":"IF(オリジナル版入力シート!B19=TRUE,B13,\"\")","v":""},{"$f":"IFERROR(INDEX($A$1:$A$71,SMALL(IF($A$1:$A$71<>\"\",ROW($A$1:$A$71)),ROW(A12))),\"\")","v":""},{"$f":"IFERROR(INDEX($C$1:$C$71,SMALL(IF($C$1:$C$71<>\"\",ROW($C$1:$C$71)),ROW(E12))),\"\")","v":""},null,null,{"$f":"PHONETIC(オリジナル版入力シート!D20)","v":"ともだちといっしょにあそぶことがある。"}]
[{"$f":"IF(オリジナル版入力シート!B20=TRUE,オリジナル版入力シート!D20,\"\")","v":""}," とも  だち 　     いっ しょ  　    あそ　",{"$f":"IF(オリジナル版入力シート!B20=TRUE,B14,\"\")","v":""},{"$f":"IFERROR(INDEX($A$1:$A$69,SMALL(IF($A$1:$A$69<>\"\",ROW($A$1:$A$69)),ROW(A13))),\"\")","v":""},null,null,null,{"$f":"PHONETIC(オリジナル版入力シート!D21)","v":"めーるやＳＮＳなどでともだちとやりとりすることがある。"}]
[{"$f":"IF(オリジナル版入力シート!B21=TRUE,オリジナル版入力シート!D21,\"\")","v":""},"　　　　　     　　        　       　　           とも  だち  　　　　　　　　と",{"$f":"IF(オリジナル版入力シート!B21=TRUE,B15,\"\")","v":""},{"$f":"IFERROR(INDEX($A$1:$A$69,SMALL(IF($A$1:$A$69<>\"\",ROW($A$1:$A$69)),ROW(A14))),\"\")","v":""},null,null,null,{"$f":"PHONETIC(オリジナル版入力シート!D22)","v":"ほんねをはなすことができるともだちがいる。"}]
[{"$f":"IF(オリジナル版入力シート!B22=TRUE,オリジナル版入力シート!D22,\"\")","v":""}," ほん   ね  　     はな　　　　      　  　                 とも  だち",{"$f":"IF(オリジナル版入力シート!B22=TRUE,B16,\"\")","v":""},{"$f":"IFERROR(INDEX($A$1:$A$69,SMALL(IF($A$1:$A$69<>\"\",ROW($A$1:$A$69)),ROW(A15))),\"\")","v":""},null,null,null,{"$f":"PHONETIC(オリジナル版入力シート!D23)","v":"ともだちはほんねをはなしてくれているとかんじる。"}]
[{"$f":"IF(オリジナル版入力シート!B23=TRUE,オリジナル版入力シート!D23,\"\")","v":""}," とも  だち        ほん   ね  　    はな　       　　　 　                    　　かん",{"$f":"IF(オリジナル版入力シート!B23=TRUE,B17,\"\")","v":""},{"$f":"IFERROR(INDEX($A$1:$A$69,SMALL(IF($A$1:$A$69<>\"\",ROW($A$1:$A$69)),ROW(A16))),\"\")","v":""},null,null,null,{"$f":"PHONETIC(オリジナル版入力シート!D24)","v":"ともだちのやくにたっているとかんじることがある。"}]
[{"$f":"IF(オリジナル版入力シート!B24=TRUE,オリジナル版入力シート!D24,\"\")","v":""}," とも  だち   　   やく     　  た　     　　         　   　かん",{"$f":"IF(オリジナル版入力シート!B24=TRUE,B18,\"\")","v":""},{"$f":"IFERROR(INDEX($A$1:$A$69,SMALL(IF($A$1:$A$69<>\"\",ROW($A$1:$A$69)),ROW(A17))),\"\")","v":""},null,null,null,{"$f":"PHONETIC(オリジナル版入力シート!D25)","v":"ともだちにあどばいすすることがある。"}]
[{"$f":"IF(オリジナル版入力シート!B25=TRUE,オリジナル版入力シート!D25,\"\")","v":""}," とも  だち",{"$f":"IF(オリジナル版入力シート!B25=TRUE,B19,\"\")","v":""},{"$f":"IFERROR(INDEX($A$1:$A$69,SMALL(IF($A$1:$A$69<>\"\",ROW($A$1:$A$69)),ROW(A18))),\"\")","v":""},null,null,null,{"$f":"PHONETIC(オリジナル版入力シート!D26)","v":"じぶんをたすけてくれるひとやともだちがいる。"}]
[{"$f":"IF(オリジナル版入力シート!B26=TRUE,オリジナル版入力シート!D26,\"\")","v":""},"  じ   ぶん　      たす　　  　  　             　ひと　     とも  だち",{"$f":"IF(オリジナル版入力シート!B26=TRUE,B20,\"\")","v":""},{"$f":"IFERROR(INDEX($A$1:$A$69,SMALL(IF($A$1:$A$69<>\"\",ROW($A$1:$A$69)),ROW(A19))),\"\")","v":""},null,null,null,{"$f":"PHONETIC(オリジナル版入力シート!D27)","v":"じぶんのきもちやかんがえをわかってくれるひとやともだちがいる。"}]
[{"$f":"IF(オリジナル版入力シート!B27=TRUE,オリジナル版入力シート!D27,\"\")","v":""},"  じ   ぶん  　     き    も             かんが　          わ　　　 　                 　   　ひと       とも  だち",{"$f":"IF(オリジナル版入力シート!B27=TRUE,B21,\"\")","v":""},{"$f":"IFERROR(INDEX($A$1:$A$69,SMALL(IF($A$1:$A$69<>\"\",ROW($A$1:$A$69)),ROW(A20))),\"\")","v":""},null,null,null,{"$f":"PHONETIC(オリジナル版入力シート!D28)","v":"ともだちからほめられたりはげまされたりすることがある。"}]
[{"$f":"IF(オリジナル版入力シート!B28=TRUE,オリジナル版入力シート!D28,\"\")","v":""}," とも  だち　   　       ",{"$f":"IF(オリジナル版入力シート!B28=TRUE,B22,\"\")","v":""},{"$f":"IFERROR(INDEX($A$1:$A$69,SMALL(IF($A$1:$A$69<>\"\",ROW($A$1:$A$69)),ROW(A21))),\"\")","v":""},null,null,null,{"$f":"PHONETIC(オリジナル版入力シート!D29)","v":"ともだちのそうだんにのることがおおい。"}]
[{"$f":"IF(オリジナル版入力シート!B29=TRUE,オリジナル版入力シート!D29,\"\")","v":""}," とも  だち　      そう  だん　                           　  おお",{"$f":"IF(オリジナル版入力シート!B29=TRUE,B23,\"\")","v":""},{"$f":"IFERROR(INDEX($A$1:$A$69,SMALL(IF($A$1:$A$69<>\"\",ROW($A$1:$A$69)),ROW(A22))),\"\")","v":""},null,null,null,{"$f":"PHONETIC(オリジナル版入力シート!D30)","v":"がくしゅうについて"}]
[{"$f":"IF(オリジナル版入力シート!B30=TRUE,オリジナル版入力シート!D30,\"\")","v":""},"がくしゅう",{"$f":"IF(オリジナル版入力シート!B30=TRUE,B24,\"\")","v":""},{"$f":"IFERROR(INDEX($A$1:$A$69,SMALL(IF($A$1:$A$69<>\"\",ROW($A$1:$A$69)),ROW(A23))),\"\")","v":""},null,null,null,{"$f":"PHONETIC(オリジナル版入力シート!D31)","v":"べんきょうはたのしい。"}]
[{"$f":"IF(オリジナル版入力シート!B31=TRUE,オリジナル版入力シート!D31,\"\")","v":""}," べん きょう       たの",{"$f":"IF(オリジナル版入力シート!B31=TRUE,B25,\"\")","v":""},{"$f":"IFERROR(INDEX($A$1:$A$69,SMALL(IF($A$1:$A$69<>\"\",ROW($A$1:$A$69)),ROW(A24))),\"\")","v":""},null,null,null,{"$f":"PHONETIC(オリジナル版入力シート!D32)","v":"勉強はうまくいっている。"}]
[{"$f":"IF(オリジナル版入力シート!B32=TRUE,オリジナル版入力シート!D32,\"\")","v":""}," べん きょう",{"$f":"IF(オリジナル版入力シート!B32=TRUE,B26,\"\")","v":""},{"$f":"IFERROR(INDEX($A$1:$A$69,SMALL(IF($A$1:$A$69<>\"\",ROW($A$1:$A$69)),ROW(A25))),\"\")","v":""},null,null,null,{"$f":"PHONETIC(オリジナル版入力シート!D33)","v":"すきなじゅぎょうがある。"}]
[{"$f":"IF(オリジナル版入力シート!B33=TRUE,オリジナル版入力シート!D33,\"\")","v":""},"   す　 　       じゅ  ぎょう",{"$f":"IF(オリジナル版入力シート!B33=TRUE,B27,\"\")","v":""},{"$f":"IFERROR(INDEX($A$1:$A$69,SMALL(IF($A$1:$A$69<>\"\",ROW($A$1:$A$69)),ROW(A26))),\"\")","v":""},null,null,null,{"$f":"PHONETIC(オリジナル版入力シート!D34)","v":"じゅぎょうないようはりかいできている。"}]
[{"$f":"IF(オリジナル版入力シート!B34=TRUE,オリジナル版入力シート!D34,\"\")","v":""}," じゅ  ぎょう ない よう　       り   かい",{"$f":"IF(オリジナル版入力シート!B34=TRUE,B28,\"\")","v":""},{"$f":"IFERROR(INDEX($A$1:$A$69,SMALL(IF($A$1:$A$69<>\"\",ROW($A$1:$A$69)),ROW(A27))),\"\")","v":""},null,null,null,{"$f":"PHONETIC(オリジナル版入力シート!D35)","v":"授業中に自分の考えや意見を言っている。"}]
[{"$f":"IF(オリジナル版入力シート!B35=TRUE,オリジナル版入力シート!D35,\"\")","v":""}," じゅ  ぎょうちゅう      じ    ぶん       かんが            い   けん        い",{"$f":"IF(オリジナル版入力シート!B35=TRUE,B29,\"\")","v":""},{"$f":"IFERROR(INDEX($A$1:$A$69,SMALL(IF($A$1:$A$69<>\"\",ROW($A$1:$A$69)),ROW(A28))),\"\")","v":""},null,null,null,{"$f":"PHONETIC(オリジナル版入力シート!D36)","v":"しゅくだいはむりなくできている。"}]
[{"$f":"IF(オリジナル版入力シート!B36=TRUE,オリジナル版入力シート!D36,\"\")","v":""}," しゅく だい　       む   り",{"$f":"IF(オリジナル版入力シート!B36=TRUE,B30,\"\")","v":""},{"$f":"IFERROR(INDEX($A$1:$A$69,SMALL(IF($A$1:$A$69<>\"\",ROW($A$1:$A$69)),ROW(A29))),\"\")","v":""},null,null,null,{"$f":"PHONETIC(オリジナル版入力シート!D37)","v":"自分なりに勉強の仕方を工夫している。"}]
[{"$f":"IF(オリジナル版入力シート!B37=TRUE,オリジナル版入力シート!D37,\"\")","v":""},"  じ   ぶん　　      　     べん  きょう   　  し   かた　     く  ふ  う",{"$f":"IF(オリジナル版入力シート!B37=TRUE,B31,\"\")","v":""},{"$f":"IFERROR(INDEX($A$1:$A$69,SMALL(IF($A$1:$A$69<>\"\",ROW($A$1:$A$69)),ROW(A30))),\"\")","v":""},null,null,null,{"$f":"PHONETIC(オリジナル版入力シート!D38)","v":"がんばっていることはてすとけっかやせいせきにあらわれている。"}]
[{"$f":"IF(オリジナル版入力シート!B38=TRUE,オリジナル版入力シート!D38,\"\")","v":""},"          　　　　            　                 　　　　　　　　　 けっ   か 　　　　せい せき       あらわ",{"$f":"IF(オリジナル版入力シート!B38=TRUE,B32,\"\")","v":""},{"$f":"IFERROR(INDEX($A$1:$A$69,SMALL(IF($A$1:$A$69<>\"\",ROW($A$1:$A$69)),ROW(A31))),\"\")","v":""},null,null,null,{"$f":"PHONETIC(オリジナル版入力シート!D39)","v":"ひとりでするがくしゅうはじぶんにあっている。"}]
[{"$f":"IF(オリジナル版入力シート!B39=TRUE,オリジナル版入力シート!D39,\"\")","v":""}," ひ  と  り　　　        　  がく  しゅう　     じ   ぶん　      あ        　　     　　　",{"$f":"IF(オリジナル版入力シート!B39=TRUE,B33,\"\")","v":""},{"$f":"IFERROR(INDEX($A$1:$A$69,SMALL(IF($A$1:$A$69<>\"\",ROW($A$1:$A$69)),ROW(A32))),\"\")","v":""},null,null,null,{"$f":"PHONETIC(オリジナル版入力シート!D40)","v":"ぺあやぐるーぷでするがくしゅうはじぶんにあっている。"}]
[{"$f":"IF(オリジナル版入力シート!B40=TRUE,オリジナル版入力シート!D40,\"\")","v":""},"　　　　　     　                                       がく しゅう       じ   ぶん 　      あ",{"$f":"IF(オリジナル版入力シート!B40=TRUE,B34,\"\")","v":""},{"$f":"IFERROR(INDEX($A$1:$A$69,SMALL(IF($A$1:$A$69<>\"\",ROW($A$1:$A$69)),ROW(A33))),\"\")","v":""},null,null,null,{"$f":"PHONETIC(オリジナル版入力シート!D41)","v":"かていについて"}]
[{"$f":"IF(オリジナル版入力シート!B41=TRUE,オリジナル版入力シート!D41,\"\")","v":""},"かてい",{"$f":"IF(オリジナル版入力シート!B41=TRUE,B35,\"\")","v":""},{"$f":"IFERROR(INDEX($A$1:$A$69,SMALL(IF($A$1:$A$69<>\"\",ROW($A$1:$A$69)),ROW(A34))),\"\")","v":""},null,null,null,{"$f":"PHONETIC(オリジナル版入力シート!D42)","v":"いえですごすじかんはすきだ。"}]
[{"$f":"IF(オリジナル版入力シート!B42=TRUE,オリジナル版入力シート!D42,\"\")","v":""},"  いえ   　    す 　   　      じ   かん　      す",{"$f":"IF(オリジナル版入力シート!B42=TRUE,B36,\"\")","v":""},{"$f":"IFERROR(INDEX($A$1:$A$69,SMALL(IF($A$1:$A$69<>\"\",ROW($A$1:$A$69)),ROW(A35))),\"\")","v":""},null,null,null,{"$f":"PHONETIC(オリジナル版入力シート!D43)","v":"いえのなかにおちつくばしょがある。"}]
[{"$f":"IF(オリジナル版入力シート!B43=TRUE,オリジナル版入力シート!D43,\"\")","v":""},"  いえ　     なか 　     お　       つ　       ば   しょ",{"$f":"IF(オリジナル版入力シート!B43=TRUE,B37,\"\")","v":""},{"$f":"IFERROR(INDEX($A$1:$A$69,SMALL(IF($A$1:$A$69<>\"\",ROW($A$1:$A$69)),ROW(A36))),\"\")","v":""},null,null,null,{"$f":"PHONETIC(オリジナル版入力シート!D44)","v":"いえでりらっくすできている。"}]
[{"$f":"IF(オリジナル版入力シート!B44=TRUE,オリジナル版入力シート!D44,\"\")","v":""},"  いえ",{"$f":"IF(オリジナル版入力シート!B44=TRUE,B38,\"\")","v":""},null,null,null,null,{"$f":"PHONETIC(オリジナル版入力シート!D45)","v":"家族とよく話している。"}]
[{"$f":"IF(オリジナル版入力シート!B45=TRUE,オリジナル版入力シート!D45,\"\")","v":""},"   か   ぞく　   　        はな",{"$f":"IF(オリジナル版入力シート!B45=TRUE,B39,\"\")","v":""},null,null,null,null,{"$f":"PHONETIC(オリジナル版入力シート!D46)","v":"家族で過ごす時間は楽しい。"}]
[{"$f":"IF(オリジナル版入力シート!B46=TRUE,オリジナル版入力シート!D46,\"\")","v":""},"   か   ぞく  　     す     　   　 じ    かん　     たの",{"$f":"IF(オリジナル版入力シート!B46=TRUE,B40,\"\")","v":""},null,null,null,null,{"$f":"PHONETIC(オリジナル版入力シート!D47)","v":"自分の気持ちや考えを分かってくれる家族がいる。"}]
[{"$f":"IF(オリジナル版入力シート!B47=TRUE,オリジナル版入力シート!D47,\"\")","v":""},"  じ   ぶん　       き    も　    　     かんが　          わ　　　          　　      　  　  か   ぞく",{"$f":"IF(オリジナル版入力シート!B47=TRUE,B41,\"\")","v":""},null,null,null,null,{"$f":"PHONETIC(オリジナル版入力シート!D48)","v":"家で手伝いをしている。"}]
[{"$f":"IF(オリジナル版入力シート!B48=TRUE,オリジナル版入力シート!D48,\"\")","v":""},"  いえ        て   つだ",{"$f":"IF(オリジナル版入力シート!B48=TRUE,B42,\"\")","v":""},null,null,null,null,{"$f":"PHONETIC(オリジナル版入力シート!D49)","v":"いえでじぶんのすきなことやしたいことができている。"}]
[{"$f":"IF(オリジナル版入力シート!B49=TRUE,オリジナル版入力シート!D49,\"\")","v":""},"  いえ 　     じ   ぶん  　     す",{"$f":"IF(オリジナル版入力シート!B49=TRUE,B43,\"\")","v":""},null,null,null,null,{"$f":"PHONETIC(オリジナル版入力シート!D50)","v":"ぶかつどう(しゃかいたいいく)やならいごとについて"}]
[{"$f":"IF(オリジナル版入力シート!B50=TRUE,オリジナル版入力シート!D50,\"\")","v":""},"ぶかつどう(しゃかいたいいく)",{"$f":"IF(オリジナル版入力シート!B50=TRUE,B44,\"\")","v":""},null,null,null,null,{"$f":"PHONETIC(オリジナル版入力シート!D51)","v":"ぶかつどうやならいごとはたのしい。"}]
[{"$f":"IF(オリジナル版入力シート!B51=TRUE,オリジナル版入力シート!D51,\"\")","v":""},"  ぶ   かつ  どう    　  なら　 　   ごと       たの",{"$f":"IF(オリジナル版入力シート!B51=TRUE,B45,\"\")","v":""},null,null,null,null,{"$f":"PHONETIC(オリジナル版入力シート!D52)","v":"ぶかつどうや習い事をがんばっている。"}]
[{"$f":"IF(オリジナル版入力シート!B52=TRUE,オリジナル版入力シート!D52,\"\")","v":""},"  ぶ   かつ  どう    　  なら　 　   ごと      ",{"$f":"IF(オリジナル版入力シート!B52=TRUE,B46,\"\")","v":""},null,null,null,null,{"$f":"PHONETIC(オリジナル版入力シート!D53)","v":"ぶかつどうや習い事のめんばーはなかがよい。"}]
[{"$f":"IF(オリジナル版入力シート!B53=TRUE,オリジナル版入力シート!D53,\"\")","v":""},"  ぶ   かつ  どう    　  なら　  　  ごと       　　   　　          　  　なか 　 ",{"$f":"IF(オリジナル版入力シート!B53=TRUE,B47,\"\")","v":""},null,null,null,null,{"$f":"PHONETIC(オリジナル版入力シート!D54)","v":"ぶかつどうや習い事で、できるようになったことがある。"}]
[{"$f":"IF(オリジナル版入力シート!B54=TRUE,オリジナル版入力シート!D54,\"\")","v":""},"  ぶ   かつ  どう    　  なら　  　  ごと",{"$f":"IF(オリジナル版入力シート!B54=TRUE,B48,\"\")","v":""},null,null,null,null,{"$f":"PHONETIC(オリジナル版入力シート!D55)","v":"ぶかつどうや習い事はむりなくできている。"}]
[{"$f":"IF(オリジナル版入力シート!B55=TRUE,オリジナル版入力シート!D55,\"\")","v":""},"  ぶ   かつ  どう    　  なら　  　  ごと         む    り",{"$f":"IF(オリジナル版入力シート!B55=TRUE,B49,\"\")","v":""},null,null,null,null,{"$f":"PHONETIC(オリジナル版入力シート!D56)","v":"しんろについて"}]
[{"$f":"IF(オリジナル版入力シート!B56=TRUE,オリジナル版入力シート!D56,\"\")","v":""},"しんろ",{"$f":"IF(オリジナル版入力シート!B56=TRUE,B50,\"\")","v":""},null,null,null,null,{"$f":"PHONETIC(オリジナル版入力シート!D57)","v":"しょうらいのゆめやきぼうがある。"}]
[{"$f":"IF(オリジナル版入力シート!B57=TRUE,オリジナル版入力シート!D57,\"\")","v":""}," しょう らい     　 ゆめ　  　  き   ぼう",{"$f":"IF(オリジナル版入力シート!B57=TRUE,B51,\"\")","v":""},null,null,null,null,{"$f":"PHONETIC(オリジナル版入力シート!D58)","v":"もくひょうがある。"}]
[{"$f":"IF(オリジナル版入力シート!B58=TRUE,オリジナル版入力シート!D58,\"\")","v":""},"  もく ひょう",{"$f":"IF(オリジナル版入力シート!B58=TRUE,B52,\"\")","v":""},null,null,null,null,{"$f":"PHONETIC(オリジナル版入力シート!D59)","v":"あこがれのしょくぎょうがある。"}]
[{"$f":"IF(オリジナル版入力シート!B59=TRUE,オリジナル版入力シート!D59,\"\")","v":""},"             　             しょくぎょう",{"$f":"IF(オリジナル版入力シート!B59=TRUE,B53,\"\")","v":""},null,null,null,null,{"$f":"PHONETIC(オリジナル版入力シート!D60)","v":"しごとをすることはたのしみだ。"}]
[{"$f":"IF(オリジナル版入力シート!B60=TRUE,オリジナル版入力シート!D60,\"\")","v":""},"   し  ごと　　　 　　              　      たの",{"$f":"IF(オリジナル版入力シート!B60=TRUE,B54,\"\")","v":""},null,null,null,null,{"$f":"PHONETIC(オリジナル版入力シート!D61)","v":"しんがくすることはたのしみだ。"}]
[{"$f":"IF(オリジナル版入力シート!B61=TRUE,オリジナル版入力シート!D61,\"\")","v":""}," しん  がく　　　  　                  たの",{"$f":"IF(オリジナル版入力シート!B61=TRUE,B55,\"\")","v":""},null,null,null,null,{"$f":"PHONETIC(オリジナル版入力シート!D62)","v":"あこがれているおとながいる。"}]
[{"$f":"IF(オリジナル版入力シート!B62=TRUE,オリジナル版入力シート!D62,\"\")","v":""},"       　　　      　                   お と な",{"$f":"IF(オリジナル版入力シート!B62=TRUE,B56,\"\")","v":""},null,null,null,null,{"$f":"PHONETIC(オリジナル版入力シート!D63)","v":"つぎのがくねんにしんきゅうすることはたのしみだ。"}]
[{"$f":"IF(オリジナル版入力シート!B63=TRUE,オリジナル版入力シート!D63,\"\")","v":""},"  つぎ　     がく  ねん 　    しん  きゅう　 　       　           たの",{"$f":"IF(オリジナル版入力シート!B63=TRUE,B57,\"\")","v":""},null,null,null,null,{"$f":"PHONETIC(オリジナル版入力シート!D64)","v":"しんろについてともだちとはなすことがある。"}]
[{"$f":"IF(オリジナル版入力シート!B64=TRUE,オリジナル版入力シート!D64,\"\")","v":""},"  しん  ろ　　　       　          とも  だち       はな",{"$f":"IF(オリジナル版入力シート!B64=TRUE,B58,\"\")","v":""},null,null,null,null,{"$f":"PHONETIC(オリジナル版入力シート!D65)","v":"しんろについてかぞくとはなすことがある。"}]
[{"$f":"IF(オリジナル版入力シート!B65=TRUE,オリジナル版入力シート!D65,\"\")","v":""},"  しん  ろ　　　          　        か   ぞく 　    はな",{"$f":"IF(オリジナル版入力シート!B65=TRUE,B59,\"\")","v":""},null,null,null,null,{"$f":"PHONETIC(オリジナル版入力シート!D66)","v":"きょうみのあるしごとやしんろについてじぶんでしらべている。"}]
[{"$f":"IF(オリジナル版入力シート!B66=TRUE,オリジナル版入力シート!D66,\"\")","v":""}," きょう み　　                 し  ごと        しん   ろ　　　            　      じ   ぶん　      しら",{"$f":"IF(オリジナル版入力シート!B66=TRUE,B60,\"\")","v":""},null,null,null,null,{"$f":"PHONETIC(オリジナル版入力シート!D67)","v":"せんせいについて"}]
[{"$f":"IF(オリジナル版入力シート!B67=TRUE,オリジナル版入力シート!D67,\"\")","v":""},"せんせい",{"$f":"IF(オリジナル版入力シート!B67=TRUE,B61,\"\")","v":""},null,null,null,null,{"$f":"PHONETIC(オリジナル版入力シート!D68)","v":"きがるにはなせるせんせいがいる。"}]
[{"$f":"IF(オリジナル版入力シート!B68=TRUE,オリジナル版入力シート!D68,\"\")","v":""},"  き   がる  　    はな　   　     せん  せい",{"$f":"IF(オリジナル版入力シート!B68=TRUE,B62,\"\")","v":""},null,null,null,null,{"$f":"PHONETIC(オリジナル版入力シート!D69)","v":"どのせんせいともたのしくすごせている。"}]
[{"$f":"IF(オリジナル版入力シート!B69=TRUE,オリジナル版入力シート!D69,\"\")","v":""},"  　         せん せい　  　      たの　          す",{"$f":"IF(オリジナル版入力シート!B69=TRUE,B63,\"\")","v":""},null,null,null,null,{"$f":"PHONETIC(オリジナル版入力シート!D70)","v":"うれしかったことをせんせいにつたえている。"}]
[{"$f":"IF(オリジナル版入力シート!B70=TRUE,オリジナル版入力シート!D70,\"\")","v":""},"     　　　   　         　　　               せん  せい 　     つた",{"$f":"IF(オリジナル版入力シート!B70=TRUE,B64,\"\")","v":""},null,null,null,null,{"$f":"PHONETIC(オリジナル版入力シート!D71)","v":"こまったことをせんせいにつたえている。"}]
[{"$f":"IF(オリジナル版入力シート!B71=TRUE,オリジナル版入力シート!D71,\"\")","v":""}," こま　　　　　　　             せん せい　       つた",{"$f":"IF(オリジナル版入力シート!B71=TRUE,B65,\"\")","v":""},null,null,null,null,{"$f":"PHONETIC(オリジナル版入力シート!D72)","v":""}]
[{"$f":"IF(オリジナル版入力シート!B72=TRUE,オリジナル版入力シート!D72,\"\")","v":""},null,{"$f":"IF(オリジナル版入力シート!B72=TRUE,B66,\"\")","v":""},null,null,null,null,{"$f":"PHONETIC(オリジナル版入力シート!D73)","v":""}]
[{"$f":"IF(オリジナル版入力シート!B73=TRUE,オリジナル版入力シート!D73,\"\")","v":""},null,{"$f":"IF(オリジナル版入力シート!B73=TRUE,B67,\"\")","v":""},null,null,null,null,{"$f":"PHONETIC(オリジナル版入力シート!D74)","v":""}]
[{"$f":"IF(オリジナル版入力シート!B74=TRUE,オリジナル版入力シート!D74,\"\")","v":""},null,{"$f":"IF(オリジナル版入力シート!B74=TRUE,B68,\"\")","v":""},null,null,null,null,{"$f":"PHONETIC(オリジナル版入力シート!D75)","v":""}]
[{"$f":"IF(オリジナル版入力シート!B75=TRUE,オリジナル版入力シート!D75,\"\")","v":""},null,{"$f":"IF(オリジナル版入力シート!B75=TRUE,B69,\"\")","v":""},null,null,null,null,{"$f":"PHONETIC(オリジナル版入力シート!D76)","v":""}]
[{"$f":"IF(オリジナル版入力シート!B76=TRUE,オリジナル版入力シート!D76,\"\")","v":""},null,{"$f":"IF(オリジナル版入力シート!B76=TRUE,B70,\"\")","v":""},null,null,null,null,{"$f":"PHONETIC(オリジナル版入力シート!D77)","v":""}]
[{"$f":"IF(オリジナル版入力シート!B77=TRUE,オリジナル版入力シート!D77,\"\")","v":""},null,{"$f":"IF(オリジナル版入力シート!B77=TRUE,B71,\"\")","v":""},null,null,null,null,{"$f":"PHONETIC(オリジナル版入力シート!D78)","v":""}]
[{"$f":"IF(#REF!=0,#REF!,\"\")","v":{"$error":"#REF!"}}]
[{"$f":"IF(#REF!=0,#REF!,\"\")","v":{"$error":"#REF!"}}]
[{"$f":"IF(#REF!=0,#REF!,\"\")","v":{"$error":"#REF!"}}]
[{"$f":"IF(#REF!=0,#REF!,\"\")","v":{"$error":"#REF!"}}]
[{"$f":"IF(#REF!=0,#REF!,\"\")","v":{"$error":"#REF!"}}]