{"text_format":"1","workbook":"xlsx","n_sheets":6,"sheets":["作成マニュアル","オリジナル版入力シート","オリジナル版出力シート (顔文字)","オリジナル版出力シート(言葉)","【小】ベーシック版","補助シート"],"not_rendered":{"charts":0,"images":8,"macros":1,"external_links":0,"defined_names":4,"comments":0,"pivot_tables":0},"unopened":[],"bounds":{"document_bytes":16777216,"sheet_cells":100000,"rows_first":2000,"rows_last":500,"rows_between":2000,"halvings":0,"cell_chars":16384,"cell_head_chars":4096},"cells_cut":0,"cells_raw":0,"read":"whole","date_system":"1900"}

{"sheet":"作成マニュアル","index":0,"n_rows":0,"n_cols":0,"rows_kept":0,"cut":false,"hidden":false,"merged":[[0,0,38,7]]}

{"sheet":"オリジナル版入力シート","index":1,"n_rows":69,"n_cols":31,"rows_kept":69,"cut":false,"hidden":false,"merged":[[54,3,54,8],[55,3,55,8],[7,9,8,10],[31,3,31,8],[42,3,42,8],[43,3,43,8],[44,3,44,8],[32,3,32,8],[33,3,33,8],[34,3,34,8],[35,3,35,8],[18,3,18,8],[19,3,19,8],[20,3,20,8],[21,3,21,8],[22,3,22,8],[8,12,8,13],[64,3,64,8],[65,3,65,8],[66,3,66,8],[45,3,45,8],[46,3,46,8],[47,3,47,8],[37,3,37,8],[38,3,38,8],[39,3,39,8],[40,3,40,8],[41,3,41,8],[36,3,36,8],[28,3,28,8],[30,3,30,8],[29,3,29,8],[6,2,6,8],[67,3,67,8],[58,3,58,8],[59,3,59,8],[60,3,60,8],[61,3,61,8],[62,3,62,8],[63,3,63,8],[52,3,52,8],[53,3,53,8],[56,3,56,8],[57,3,57,8],[48,3,48,8],[49,3,49,8],[50,3,50,8],[51,3,51,8],[23,3,23,8],[24,3,24,8],[25,3,25,8],[26,3,26,8],[27,3,27,8],[1,3,1,8],[0,2,0,10],[17,3,17,8],[7,3,7,8],[8,3,8,8],[9,3,9,8],[10,3,10,8],[11,3,11,8],[12,3,12,8],[13,3,13,8],[14,3,14,8],[15,3,15,8],[16,3,16,8],[2,9,4,9],[3,7,4,7],[3,8,4,8]]}
[null,0,"(小学1年～４年対象)アンケート　　質問に☑チェックを入れてください。"]
[null,null,null,"選択した質問の数"]
[null,null,null,"自分について",{"$f":"COUNTIF($B$8:$B$18,TRUE)","v":0},"家庭について",{"$f":"COUNTIF($B$40:$B$48,TRUE)","v":0},"先生について",{"$f":"COUNTIF($B$64:$B$68,TRUE)","v":0},"ページ上へ"]
[null,null,null,"友達について",{"$f":"COUNTIF($B$19:$B$28,TRUE)","v":0},"習い事について",{"$f":"COUNTIF($B$49:$B$54,TRUE)","v":0},"合計",{"$f":"SUM(E3:E5,G3:G5,I3)","v":0}]
[null,null,null,"学習について",{"$f":"COUNTIF($B$29:$B$39,TRUE)","v":0},"将来について",{"$f":"COUNTIF($B$55:$B$63,TRUE)","v":0}]
[null,null,null,null,null,null,null,null,null,null,null,null,null,""]
[null,-1,"質問",null,null,null,null,null,null,null,null,null,null,""]
[null,false,null,"じぶんについて",null,null,null,null,null,"※　ベーシック版を基に\n　作成する場合は、下の\n　ボタンをクリックして\n　ください。↓",null,null,null,""]
[null,false,null,"げんきが　ありますか。"]
[null,false,null,"よるは　よく　ねむれて　いますか。",null,null,null,null,null,null,null,null,null,"選択した質問"]
[null,false,null,"ごはんは　しっかり　たべて　いますか。",null,null,null,null,null,null,null,null,1,""]
[null,false,null,"きもちが　たのしくなったり　わくわくしたり　する　ことが　ありますか。",null,null,null,null,null,null,null,null,2,"",null,null,null,null,null,null,null,null,null,null,"年",null,"組　　",null,"号",null,"名前"]
[null,false,null,"すきな　あそびは　ありますか。",null,null,null,null,null,null,null,null,3,""]
[null,false,null,"しりたいな　やってみたいなと　おもう　ことが　ありますか。",null,null,null,null,null,null,null,null,4,""]
[null,false,null,"とくいな　ことが　ありますか。",null,null,null,null,null,null,null,null,5,"",null,""]
[null,false,null,"じぶんの　ことが　すきですか。",null,null,null,null,null,null,null,null,6,"",null,""]
[null,false,null,"じぶんから　チャレンジする　ことが　ありますか。",null,null,null,null,null,null,null,null,7,"",null,""]
[null,false,null,"こころが　ほっとする　ときが　ありますか。",null,null,null,null,null,null,null,null,8,"",null,""]
[null,false,null,"ともだちについて",null,null,null,null,null,null,null,null,9,"",null,""]
[null,false,null,"ともだちと　いっしょに　あそぶ　ことが　ありますか。",null,null,null,null,null,null,null,null,10,"",null,""]
[null,false,null,"ゲ－ムや　メ－ル　などで　ともだちと　はなす　ことが　ありますか。",null,null,null,null,null,null,null,null,null,null,null,""]
[null,false,null,"ともだちは　あなたの　はなしを　きいて　くれますか。",null,null,null,null,null,null,null,null,""]
[null,false,null,"ともだちの　はなしを　きいて　いますか。",null,null,null,null,null,null,null,null,""]
[null,false,null,"ともだちの　ために　なにかを　する　ことが　ありますか。",null,null,null,null,null,null,null,null,""]
[null,false,null,"ともだちに　なにかを　おしえた　ことが　ありますか。"]
[null,false,null,"あなたを　たすけて　くれる　ひとや　ともだちが　いますか。"]
[null,false,null,"あなたの　きもちを　わかって　くれる　ひとや　ともだちが　いますか。"]
[null,false,null,"ともだちから　ほめられた　ことが　ありますか。"]
[null,false,null,"がくしゅうについて"]
[null,false,null,"べんきょうは　たのしいですか。"]
[null,false,null,"すきな　じゅぎょうは　ありますか。"]
[null,false,null,"じゅぎょうは　わかりますか。"]
[null,false,null,"じゅぎょうの　ときに　じぶんの　いけんを　いって　いますか。"]
[null,false,null,"しゅくだいは　できて　いますか。"]
[null,false,null,"べんきょうの　しかたを　かんがえたり　くふうしたり　していますか。"]
[null,false,null,"べんきょうで　「できた！」　「わかった！」と　おもう　ことが　ありますか。"]
[null,false,null,"テストの　てんすうは　いいですか。"]
[null,false,null,"ひとりで　べんきょう　するのは　すきですか。"]
[null,false,null,"みんなと　べんきょう　するのは　すきですか。　"]
[null,false,null,"かていについて"]
[null,false,null,"いえで　すごすのは　すきですか。"]
[null,false,null,"いえの　なかに　おちつく　ばしょが　ありますか。"]
[null,false,null,"いえで　ゆっくり　できて　いますか。"]
[null,false,null,"かぞくと　よく　はなして　いますか。"]
[null,false,null,"かぞくで　すごす　じかんは　たのしいですか。"]
[null,false,null,"かぞくの　ひとは　きもちを　わかって　くれますか。"]
[null,false,null,"いえで　てつだいを　して　いますか。"]
[null,false,null,"いえで　じぶんの　すきな　ことが　できて　いますか。"]
[null,false,null,"ならいごとについて"]
[null,false,null,"ならいごとは　たのしいですか。"]
[null,false,null,"ならいごとを　がんばって　いますか。"]
[null,false,null,"ならいごとに　なかのよい　ともだちは　いますか。"]
[null,false,null,"ならいごとで　できるように　なった　ことが　ありますか。"]
[null,false,null,"ならいごとは　きつくないですか。"]
[null,false,null,"しょうらいについて"]
[null,false,null,"しょうらいの　ゆめは　ありますか。"]
[null,false,null,"もくひょうは　ありますか。"]
[null,false,null,"おとなに　なって　したい　しごとが　ありますか。"]
[null,false,null,"おとなに　なって　しごとを　するのは　たのしみですか。"]
[null,false,null,"あこがれの　ひとが　いますか。"]
[null,false,null,"ひとつ　がくねんが　あがる　ことは　たのしみですか。"]
[null,false,null,"ゆめに　ついて　ともだちと　はなす　ことが　ありますか。"]
[null,false,null,"ゆめに　ついて　かぞくと　はなす　ことが　ありますか。"]
[null,false,null,"せんせいについて"]
[null,false,null,"あなたは　せんせいと　はなして　いますか。"]
[null,false,null,"あなたは　せんせいと　あそんで　いますか。"]
[null,false,null,"うれしかった　ことを　せんせいに　つたえて　いますか。"]
[null,false,null,"こまった　ことを　せんせいに　つたえて　いますか。"]
[null,0]

{"sheet":"オリジナル版出力シート (顔文字)","index":2,"n_rows":18,"n_cols":24,"rows_kept":18,"cut":false,"hidden":false,"merged":[[12,17,12,18],[13,17,13,18],[14,17,14,18],[15,17,15,18],[16,17,16,18],[7,17,7,18],[8,17,8,18],[9,17,9,18],[10,17,10,18],[11,17,11,18],[15,19,15,20],[15,21,15,22],[15,23,15,24],[16,19,16,20],[16,21,16,22],[16,23,16,24],[13,19,13,20],[13,21,13,22],[13,23,13,24],[14,19,14,20],[14,21,14,22],[14,23,14,24],[11,19,11,20],[11,21,11,22],[11,23,11,24],[12,19,12,20],[12,21,12,22],[12,23,12,24],[9,19,9,20],[9,21,9,22],[9,23,9,24],[10,19,10,20],[10,21,10,22],[10,23,10,24],[7,19,7,20],[7,21,7,22],[7,23,7,24],[8,19,8,20],[8,21,8,22],[8,23,8,24],[1,1,1,23],[2,7,2,8],[5,17,6,18],[5,19,6,20],[5,21,6,22],[5,23,6,24]]}
[]
[null,"そうだんアンケート"]
[null,null,null,null,null,null,null,null,null,null,null,null,"ねん",null,"くみ",null,"ごう",null,"なまえ"]
[]
[null,null,"あなたの　きもちに　ちかいものに　○を　つけてください。"]
[null,null,null,null,null,null,null,null,null,null,null,null,null,null,null,null,null,"あては\nまる",null,"すこし\nあては\nまる",null,"あまり\nあてはま\nらない",null,"あてはま\nらない"]
[]
[null,"①",{"$f":"補助シート!C2","v":""}]
[null,"②",{"$f":"補助シート!C3","v":""}]
[null,"③",{"$f":"補助シート!C4","v":""}]
[null,"④",{"$f":"補助シート!C5","v":""}]
[null,"⑤",{"$f":"補助シート!C6","v":""}]
[null,"⑥",{"$f":"補助シート!C7","v":""}]
[null,"⑦",{"$f":"補助シート!C8","v":""}]
[null,"⑧",{"$f":"補助シート!C9","v":""}]
[null,"⑨",{"$f":"補助シート!C10","v":""}]
[null,"⑩",{"$f":"補助シート!C11","v":""}]
[null,null,"ほかにも せんせいに きいて ほしい ことが あれば、かきましょう。"]

{"sheet":"オリジナル版出力シート(言葉)","index":3,"n_rows":18,"n_cols":19,"rows_kept":18,"cut":false,"hidden":false,"merged":[[1,1,1,23],[2,7,2,8],[6,23,6,24],[6,21,6,22],[6,19,6,20],[6,17,6,18],[7,17,7,18],[7,19,7,20],[7,21,7,22],[7,23,7,24],[8,17,8,18],[8,21,8,22],[8,23,8,24],[9,17,9,18],[10,17,10,18],[11,17,11,18],[12,17,12,18],[8,19,8,20],[9,23,9,24],[9,21,9,22],[9,19,9,20],[10,19,10,20],[10,21,10,22],[10,23,10,24],[11,23,11,24],[11,21,11,22],[11,19,11,20],[13,17,13,18],[13,19,13,20],[13,21,13,22],[13,23,13,24],[12,19,12,20],[12,21,12,22],[12,23,12,24],[12,25,12,26],[14,17,14,18],[14,19,14,20],[14,21,14,22],[14,23,14,24],[15,17,15,18],[15,19,15,20],[15,21,15,22],[15,23,15,24],[16,17,16,18],[16,19,16,20],[16,21,16,22],[16,23,16,24]]}
[]
[null,"そうだんアンケート"]
[null,null,null,null,null,null,null,null,null,null,null,null,"ねん",null,"くみ",null,"ごう",null,"なまえ"]
[]
[null,null,"あなたの　きもちに　ちかいものに　○を　つけてください。"]
[]
[]
[null,"①",{"$f":"補助シート!C2","v":""}]
[null,"②",{"$f":"補助シート!C3","v":""}]
[null,"③",{"$f":"補助シート!C4","v":""}]
[null,"④",{"$f":"補助シート!C5","v":""}]
[null,"⑤",{"$f":"補助シート!C6","v":""}]
[null,"⑥",{"$f":"補助シート!C7","v":""}]
[null,"⑦",{"$f":"補助シート!C8","v":""}]
[null,"⑧",{"$f":"補助シート!C9","v":""}]
[null,"⑨",{"$f":"補助シート!C10","v":""}]
[null,"⑩",{"$f":"補助シート!C11","v":""}]
[null,null,"ほかにも せんせいに きいて ほしい ことが あれば、かきましょう。"]

{"sheet":"【小】ベーシック版","index":4,"n_rows":18,"n_cols":24,"rows_kept":18,"cut":false,"hidden":false,"merged":[[13,17,13,18],[14,17,14,18],[15,17,15,18],[16,17,16,18],[5,17,6,18],[8,17,8,18],[9,17,9,18],[10,17,10,18],[11,17,11,18],[12,17,12,18],[16,19,16,20],[16,21,16,22],[16,23,16,24],[14,19,14,20],[14,21,14,22],[14,23,14,24],[15,19,15,20],[15,21,15,22],[15,23,15,24],[12,19,12,20],[12,21,12,22],[12,23,12,24],[13,19,13,20],[13,21,13,22],[13,23,13,24],[10,19,10,20],[10,21,10,22],[10,23,10,24],[11,19,11,20],[11,21,11,22],[11,23,11,24],[8,19,8,20],[8,21,8,22],[8,23,8,24],[9,19,9,20],[9,21,9,22],[9,23,9,24],[7,19,7,20],[7,21,7,22],[7,23,7,24],[1,1,1,23],[2,7,2,8],[7,17,7,18],[5,19,6,20],[5,21,6,22],[5,23,6,24]]}
[]
[null,"そうだんアンケート"]
[null,null,null,null,null,null,null,null,null,null,null,null,"ねん",null,"くみ",null,"ごう",null,"なまえ"]
[]
[null,null,"あなたの　きもちに　ちかいものに　○を　つけてください。"]
[null,null,null,null,null,null,null,null,null,null,null,null,null,null,null,null,null,"あては\nまる",null,"すこし\nあては\nまる",null,"あまり\nあてはま\nらない",null,"あてはま\nらない"]
[]
[null,"①","げんきが　ありますか。"]
[null,"②","きもちが　たのしくなったり　わくわくしたり　する　ことが　ありますか。"]
[null,"③","しりたいな　やってみたいなと　おもう　ことが　ありますか。"]
[null,"④","じぶんの　ことが　すき　ですか。"]
[null,"⑤","ともだちと　いっしょに　あそぶ　ことが　ありますか。"]
[null,"⑥","あなたを　たすけて　くれる　ひとや　ともだちが　いますか。"]
[null,"⑦","ともだちから　ほめられた　ことが　ありますか。"]
[null,"⑧","べんきょうは　たのしいですか。"]
[null,"⑨","じゅぎょうの　ときに　じぶんの　いけんを　いって　いますか。"]
[null,"⑩","かぞくで　すごす　じかんは　たのしいですか。"]
[null,null,"ほかにも せんせいに きいて ほしい ことが あれば、かきましょう。"]

{"sheet":"補助シート","index":5,"n_rows":76,"n_cols":4,"rows_kept":76,"cut":false,"hidden":false,"merged":[]}
[null,null,"質問順番"]
[{"$f":"IF(オリジナル版入力シート!B8=TRUE,オリジナル版入力シート!D8,\"\")","v":""},null,{"$f":"IFERROR(INDEX($A$1:$A$71,SMALL(IF($A$1:$A$71<>\"\",ROW($A$1:$A$71)),ROW(A1))),\"\")","v":""}]
[{"$f":"IF(オリジナル版入力シート!B9=TRUE,オリジナル版入力シート!D9,\"\")","v":""},null,{"$f":"IFERROR(INDEX($A$1:$A$71,SMALL(IF($A$1:$A$71<>\"\",ROW($A$1:$A$71)),ROW(A2))),\"\")","v":""}]
[{"$f":"IF(オリジナル版入力シート!B10=TRUE,オリジナル版入力シート!D10,\"\")","v":""},null,{"$f":"IFERROR(INDEX($A$1:$A$71,SMALL(IF($A$1:$A$71<>\"\",ROW($A$1:$A$71)),ROW(A3))),\"\")","v":""}]
[{"$f":"IF(オリジナル版入力シート!B11=TRUE,オリジナル版入力シート!D11,\"\")","v":""},null,{"$f":"IFERROR(INDEX($A$1:$A$71,SMALL(IF($A$1:$A$71<>\"\",ROW($A$1:$A$71)),ROW(A4))),\"\")","v":""}]
[{"$f":"IF(オリジナル版入力シート!B12=TRUE,オリジナル版入力シート!D12,\"\")","v":""},null,{"$f":"IFERROR(INDEX($A$1:$A$71,SMALL(IF($A$1:$A$71<>\"\",ROW($A$1:$A$71)),ROW(A5))),\"\")","v":""}]
[{"$f":"IF(オリジナル版入力シート!B13=TRUE,オリジナル版入力シート!D13,\"\")","v":""},null,{"$f":"IFERROR(INDEX($A$1:$A$71,SMALL(IF($A$1:$A$71<>\"\",ROW($A$1:$A$71)),ROW(A6))),\"\")","v":""}]
[{"$f":"IF(オリジナル版入力シート!B14=TRUE,オリジナル版入力シート!D14,\"\")","v":""},null,{"$f":"IFERROR(INDEX($A$1:$A$71,SMALL(IF($A$1:$A$71<>\"\",ROW($A$1:$A$71)),ROW(A7))),\"\")","v":""}]
[{"$f":"IF(オリジナル版入力シート!B15=TRUE,オリジナル版入力シート!D15,\"\")","v":""},null,{"$f":"IFERROR(INDEX($A$1:$A$71,SMALL(IF($A$1:$A$71<>\"\",ROW($A$1:$A$71)),ROW(A8))),\"\")","v":""}]
[{"$f":"IF(オリジナル版入力シート!B16=TRUE,オリジナル版入力シート!D16,\"\")","v":""},null,{"$f":"IFERROR(INDEX($A$1:$A$71,SMALL(IF($A$1:$A$71<>\"\",ROW($A$1:$A$71)),ROW(A9))),\"\")","v":""}]
[{"$f":"IF(オリジナル版入力シート!B17=TRUE,オリジナル版入力シート!D17,\"\")","v":""},null,{"$f":"IFERROR(INDEX($A$1:$A$71,SMALL(IF($A$1:$A$71<>\"\",ROW($A$1:$A$71)),ROW(A10))),\"\")","v":""}]
[{"$f":"IF(オリジナル版入力シート!B18=TRUE,オリジナル版入力シート!D18,\"\")","v":""},null,null,""]
[{"$f":"IF(オリジナル版入力シート!B19=TRUE,オリジナル版入力シート!D19,\"\")","v":""}]
[{"$f":"IF(オリジナル版入力シート!B20=TRUE,オリジナル版入力シート!D20,\"\")","v":""}]
[{"$f":"IF(オリジナル版入力シート!B21=TRUE,オリジナル版入力シート!D21,\"\")","v":""}]
[{"$f":"IF(オリジナル版入力シート!B22=TRUE,オリジナル版入力シート!D22,\"\")","v":""}]
[{"$f":"IF(オリジナル版入力シート!B23=TRUE,オリジナル版入力シート!D23,\"\")","v":""}]
[{"$f":"IF(オリジナル版入力シート!B24=TRUE,オリジナル版入力シート!D24,\"\")","v":""}]
[{"$f":"IF(オリジナル版入力シート!B25=TRUE,オリジナル版入力シート!D25,\"\")","v":""}]
[{"$f":"IF(オリジナル版入力シート!B26=TRUE,オリジナル版入力シート!D26,\"\")","v":""}]
[{"$f":"IF(オリジナル版入力シート!B27=TRUE,オリジナル版入力シート!D27,\"\")","v":""}]
[{"$f":"IF(オリジナル版入力シート!B28=TRUE,オリジナル版入力シート!D28,\"\")","v":""}]
[{"$f":"IF(オリジナル版入力シート!B29=TRUE,オリジナル版入力シート!D29,\"\")","v":""}]
[{"$f":"IF(オリジナル版入力シート!B30=TRUE,オリジナル版入力シート!D30,\"\")","v":""}]
[{"$f":"IF(オリジナル版入力シート!B31=TRUE,オリジナル版入力シート!D31,\"\")","v":""}]
[{"$f":"IF(オリジナル版入力シート!B32=TRUE,オリジナル版入力シート!D32,\"\")","v":""}]
[{"$f":"IF(オリジナル版入力シート!B33=TRUE,オリジナル版入力シート!D33,\"\")","v":""}]
[{"$f":"IF(オリジナル版入力シート!B34=TRUE,オリジナル版入力シート!D34,\"\")","v":""}]
[{"$f":"IF(オリジナル版入力シート!B35=TRUE,オリジナル版入力シート!D35,\"\")","v":""}]
[{"$f":"IF(オリジナル版入力シート!B36=TRUE,オリジナル版入力シート!D36,\"\")","v":""}]
[{"$f":"IF(オリジナル版入力シート!B37=TRUE,オリジナル版入力シート!D37,\"\")","v":""}]
[{"$f":"IF(オリジナル版入力シート!B38=TRUE,オリジナル版入力シート!D38,\"\")","v":""}]
[{"$f":"IF(オリジナル版入力シート!B39=TRUE,オリジナル版入力シート!D39,\"\")","v":""}]
[{"$f":"IF(オリジナル版入力シート!B40=TRUE,オリジナル版入力シート!D40,\"\")","v":""}]
[{"$f":"IF(オリジナル版入力シート!B41=TRUE,オリジナル版入力シート!D41,\"\")","v":""}]
[{"$f":"IF(オリジナル版入力シート!B42=TRUE,オリジナル版入力シート!D42,\"\")","v":""}]
[{"$f":"IF(オリジナル版入力シート!B43=TRUE,オリジナル版入力シート!D43,\"\")","v":""}]
[{"$f":"IF(オリジナル版入力シート!B44=TRUE,オリジナル版入力シート!D44,\"\")","v":""}]
[{"$f":"IF(オリジナル版入力シート!B45=TRUE,オリジナル版入力シート!D45,\"\")","v":""}]
[{"$f":"IF(オリジナル版入力シート!B46=TRUE,オリジナル版入力シート!D46,\"\")","v":""}]
[{"$f":"IF(オリジナル版入力シート!B47=TRUE,オリジナル版入力シート!D47,\"\")","v":""}]
[{"$f":"IF(オリジナル版入力シート!B48=TRUE,オリジナル版入力シート!D48,\"\")","v":""}]
[{"$f":"IF(オリジナル版入力シート!B49=TRUE,オリジナル版入力シート!D49,\"\")","v":""}]
[{"$f":"IF(オリジナル版入力シート!B50=TRUE,オリジナル版入力シート!D50,\"\")","v":""}]
[{"$f":"IF(オリジナル版入力シート!B51=TRUE,オリジナル版入力シート!D51,\"\")","v":""}]
[{"$f":"IF(オリジナル版入力シート!B52=TRUE,オリジナル版入力シート!D52,\"\")","v":""}]
[{"$f":"IF(オリジナル版入力シート!B53=TRUE,オリジナル版入力シート!D53,\"\")","v":""}]
[{"$f":"IF(オリジナル版入力シート!B54=TRUE,オリジナル版入力シート!D54,\"\")","v":""}]
[{"$f":"IF(オリジナル版入力シート!B55=TRUE,オリジナル版入力シート!D55,\"\")","v":""}]
[{"$f":"IF(オリジナル版入力シート!B56=TRUE,オリジナル版入力シート!D56,\"\")","v":""}]
[{"$f":"IF(オリジナル版入力シート!B57=TRUE,オリジナル版入力シート!D57,\"\")","v":""}]
[{"$f":"IF(オリジナル版入力シート!B58=TRUE,オリジナル版入力シート!D58,\"\")","v":""}]
[{"$f":"IF(オリジナル版入力シート!B59=TRUE,オリジナル版入力シート!D59,\"\")","v":""}]
[{"$f":"IF(オリジナル版入力シート!B60=TRUE,オリジナル版入力シート!D60,\"\")","v":""}]
[{"$f":"IF(オリジナル版入力シート!B61=TRUE,オリジナル版入力シート!D61,\"\")","v":""}]
[{"$f":"IF(オリジナル版入力シート!B62=TRUE,オリジナル版入力シート!D62,\"\")","v":""}]
[{"$f":"IF(オリジナル版入力シート!B63=TRUE,オリジナル版入力シート!D63,\"\")","v":""}]
[{"$f":"IF(オリジナル版入力シート!B64=TRUE,オリジナル版入力シート!D64,\"\")","v":""}]
[{"$f":"IF(オリジナル版入力シート!B65=TRUE,オリジナル版入力シート!D65,\"\")","v":""}]
[{"$f":"IF(オリジナル版入力シート!B66=TRUE,オリジナル版入力シート!D66,\"\")","v":""}]
[{"$f":"IF(オリジナル版入力シート!B67=TRUE,オリジナル版入力シート!D67,\"\")","v":""}]
[{"$f":"IF(オリジナル版入力シート!B68=TRUE,オリジナル版入力シート!D68,\"\")","v":""}]
[{"$f":"IF(オリジナル版入力シート!B69=TRUE,オリジナル版入力シート!D69,\"\")","v":""}]
[{"$f":"IF(オリジナル版入力シート!B70=TRUE,オリジナル版入力シート!D70,\"\")","v":""}]
[{"$f":"IF(オリジナル版入力シート!B71=TRUE,オリジナル版入力シート!D71,\"\")","v":""}]
[{"$f":"IF(オリジナル版入力シート!B72=TRUE,オリジナル版入力シート!D72,\"\")","v":""}]
[{"$f":"IF(オリジナル版入力シート!B73=TRUE,オリジナル版入力シート!D73,\"\")","v":""}]
[{"$f":"IF(オリジナル版入力シート!B74=TRUE,オリジナル版入力シート!D74,\"\")","v":""}]
[{"$f":"IF(オリジナル版入力シート!B75=TRUE,オリジナル版入力シート!D75,\"\")","v":""}]
[{"$f":"IF(オリジナル版入力シート!B76=TRUE,オリジナル版入力シート!D76,\"\")","v":""}]
[{"$f":"IF(オリジナル版入力シート!B77=TRUE,オリジナル版入力シート!D77,\"\")","v":""}]
[{"$f":"IF(オリジナル版入力シート!B78=TRUE,オリジナル版入力シート!D78,\"\")","v":""}]
[{"$f":"IF(#REF!=0,#REF!,\"\")","v":{"$error":"#REF!"}}]
[{"$f":"IF(#REF!=0,#REF!,\"\")","v":{"$error":"#REF!"}}]
[{"$f":"IF(#REF!=0,#REF!,\"\")","v":{"$error":"#REF!"}}]
[{"$f":"IF(#REF!=0,#REF!,\"\")","v":{"$error":"#REF!"}}]